BEGIN:VCALENDAR
TZID:Europe/Warsaw
X-WR-TIMEZONE:Europe/Warsaw
VERSION:2.0
PRODID:-//Uniwersytet Zielonogórski//NONSGML Plan zajęć v1.0//EN
NAME:Plan zajęć - semestr letni 2025/2026
X-WR-CALNAME:Plan zajęć - semestr letni 2025/2026
COLOR:green
CALSCALE:GREGORIAN
BEGIN:VEVENT
UID:UZ_PLZ_20260424_1500_504051
DTSTAMP:20260424T150000
DTSTART:20260424T150000
DTEND:20260424T170000
SUMMARY:Farmakologia i ordynowanie produktów leczniczych (W): prof. dr hab. Elżbieta Nowakowska
CATEGORIES:W
ATTACH:https://classroom.google.com/c/ODQ1OTU1MTUzMDI2
END:VEVENT
BEGIN:VEVENT
UID:UZ_PLZ_20260424_1800_504060
DTSTAMP:20260424T180000
DTSTART:20260424T180000
DTEND:20260424T193000
SUMMARY:Prawo w praktyce zawodowej pielęgniarki (W): mgr Bogna Geppert
CATEGORIES:W
ATTACH:https://classroom.google.com/c/ODM5NzgwNzg4MTQ0
ATTACH:https://classroom.google.com/c/ODM5NzgwNzg4MTQ0
ATTACH:https://classroom.google.com/c/ODQwMTA2MzAyMDIw
END:VEVENT
BEGIN:VEVENT
UID:UZ_PLZ_20260425_0800_504043
DTSTAMP:20260425T080000
DTSTART:20260425T080000
DTEND:20260425T093000
SUMMARY:Język angielski (Ć): mgr Agata Poźniak (PG: jo1)
CATEGORIES:Ć
LOCATION:304 A-22
END:VEVENT
BEGIN:VEVENT
UID:UZ_PLZ_20260425_0945_504056
DTSTAMP:20260425T094500
DTSTART:20260425T094500
DTEND:20260425T103000
SUMMARY:Prawo w praktyce zawodowej pielęgniarki (Ć): mgr Bogna Geppert (PG: ćwA)
CATEGORIES:Ć
LOCATION:104 A-22
END:VEVENT
BEGIN:VEVENT
UID:UZ_PLZ_20260425_1045_504030
DTSTAMP:20260425T104500
DTSTART:20260425T104500
DTEND:20260425T130000
SUMMARY:Opieka i edukacja terapeutyczna w chorobach przewlekłych układu oddechowego: niewydolności oddechowej i POChP (Ć): mgr Donata Dordzik (PG: ćwA)
CATEGORIES:Ć
LOCATION:302 A-22
END:VEVENT
BEGIN:VEVENT
UID:UZ_PLZ_20260425_1315_504038
DTSTAMP:20260425T131500
DTSTART:20260425T131500
DTEND:20260425T153500
SUMMARY:Przedmiot do wyboru - Opieka pielęgniarska w kardiologii inwazyjnej (Ć): mgr Marzena Tomasik (PG: PDW4)
CATEGORIES:Ć
LOCATION:304 A-22
END:VEVENT
BEGIN:VEVENT
UID:UZ_PLZ_20260425_1545_504051
DTSTAMP:20260425T154500
DTSTART:20260425T154500
DTEND:20260425T184500
SUMMARY:Farmakologia i ordynowanie produktów leczniczych (W): mgr Małgorzata Naporska
CATEGORIES:W
LOCATION:305/305a A-22
ATTACH:https://classroom.google.com/c/ODQ1OTU1MTUzMDI2
END:VEVENT
BEGIN:VEVENT
UID:UZ_PLZ_20260426_0800_504058
DTSTAMP:20260426T080000
DTSTART:20260426T080000
DTEND:20260426T110000
SUMMARY:Farmakologia i ordynowanie produktów leczniczych (Ć): mgr Anita Kamzol (PG: ćwA)
CATEGORIES:Ć
LOCATION:304 A-22
END:VEVENT
BEGIN:VEVENT
UID:UZ_PLZ_20260426_1115_504044
DTSTAMP:20260426T111500
DTSTART:20260426T111500
DTEND:20260426T133000
SUMMARY:Opieka i edukacja terapeutyczna w chorobach przewlekłych: zaburzeniach zdrowia psychicznego oraz reh (W): dr hab. Jolanta Chmielowiec\, prof. UZ
CATEGORIES:W
LOCATION:304 A-22
END:VEVENT
BEGIN:VEVENT
UID:UZ_PLZ_20260426_1345_504032
DTSTAMP:20260426T134500
DTSTART:20260426T134500
DTEND:20260426T160000
SUMMARY:Opieka i edukacja terapeutyczna w chorobach przewlekłych: zaburzeniach zdrowia psychicznego oraz reh (Ć): dr hab. Jolanta Chmielowiec\, prof. UZ (PG: ćwA)
CATEGORIES:Ć
LOCATION:304 A-22
END:VEVENT
BEGIN:VEVENT
UID:UZ_PLZ_20260426_1615_504039
DTSTAMP:20260426T161500
DTSTART:20260426T161500
DTEND:20260426T191500
SUMMARY:Seminarium dyplomowe (S): dr hab. n. med. Krzysztof Chmielowiec\, prof. UZ (PG: sem2)
CATEGORIES:S
LOCATION:304 A-22
END:VEVENT
BEGIN:VEVENT
UID:UZ_PLZ_20260508_1800_504060
DTSTAMP:20260508T180000
DTSTART:20260508T180000
DTEND:20260508T193000
SUMMARY:Prawo w praktyce zawodowej pielęgniarki (W): dr n. med. Julia Sobol
CATEGORIES:W
ATTACH:https://classroom.google.com/c/ODM5NzgwNzg4MTQ0
ATTACH:https://classroom.google.com/c/ODM5NzgwNzg4MTQ0
ATTACH:https://classroom.google.com/c/ODQwMTA2MzAyMDIw
END:VEVENT
BEGIN:VEVENT
UID:UZ_PLZ_20260509_0800_504043
DTSTAMP:20260509T080000
DTSTART:20260509T080000
DTEND:20260509T093000
SUMMARY:Język angielski (Ć): mgr Agata Poźniak (PG: jo1)
CATEGORIES:Ć
LOCATION:304 A-22
END:VEVENT
BEGIN:VEVENT
UID:UZ_PLZ_20260509_0945_504056
DTSTAMP:20260509T094500
DTSTART:20260509T094500
DTEND:20260509T111500
SUMMARY:Prawo w praktyce zawodowej pielęgniarki (Ć): dr n. med. Julia Sobol (PG: ćwA)
CATEGORIES:Ć
LOCATION:103/103a A-22
END:VEVENT
BEGIN:VEVENT
UID:UZ_PLZ_20260509_1130_504061
DTSTAMP:20260509T113000
DTSTART:20260509T113000
DTEND:20260509T151500
SUMMARY:Przedmiot do wyboru - Opieka pielęgniarska w kardiologii inwazyjnej (W): dr n. med. Jan Budzianowski (PG: PDW2)
CATEGORIES:W
LOCATION:304 A-22
END:VEVENT
BEGIN:VEVENT
UID:UZ_PLZ_20260509_1530_504051
DTSTAMP:20260509T153000
DTSTART:20260509T153000
DTEND:20260509T170000
SUMMARY:Farmakologia i ordynowanie produktów leczniczych (W): mgr Anita Kamzol
CATEGORIES:W
LOCATION:304 A-22
ATTACH:https://classroom.google.com/c/ODQ1OTU1MTUzMDI2
END:VEVENT
BEGIN:VEVENT
UID:UZ_PLZ_20260509_1715_504051
DTSTAMP:20260509T171500
DTSTART:20260509T171500
DTEND:20260509T184500
SUMMARY:Farmakologia i ordynowanie produktów leczniczych (W): mgr Anita Kamzol
CATEGORIES:W
LOCATION:304 A-22
ATTACH:https://classroom.google.com/c/ODQ1OTU1MTUzMDI2
END:VEVENT
BEGIN:VEVENT
UID:UZ_PLZ_20260510_0900_504030
DTSTAMP:20260510T090000
DTSTART:20260510T090000
DTEND:20260510T111500
SUMMARY:Opieka i edukacja terapeutyczna w chorobach przewlekłych układu oddechowego: niewydolności oddechowej i POChP (Ć): mgr Donata Dordzik (PG: ćwA)
CATEGORIES:Ć
LOCATION:304 A-22
END:VEVENT
BEGIN:VEVENT
UID:UZ_PLZ_20260510_1200_504044
DTSTAMP:20260510T120000
DTSTART:20260510T120000
DTEND:20260510T133000
SUMMARY:Opieka i edukacja terapeutyczna w chorobach przewlekłych: zaburzeniach zdrowia psychicznego oraz reh (W): dr hab. Jolanta Chmielowiec\, prof. UZ
CATEGORIES:W
LOCATION:305/305a A-22
END:VEVENT
BEGIN:VEVENT
UID:UZ_PLZ_20260510_1345_504032
DTSTAMP:20260510T134500
DTSTART:20260510T134500
DTEND:20260510T160000
SUMMARY:Opieka i edukacja terapeutyczna w chorobach przewlekłych: zaburzeniach zdrowia psychicznego oraz reh (Ć): dr hab. Jolanta Chmielowiec\, prof. UZ (PG: ćwA)
CATEGORIES:Ć
LOCATION:305/305a A-22
END:VEVENT
BEGIN:VEVENT
UID:UZ_PLZ_20260510_1615_504042
DTSTAMP:20260510T161500
DTSTART:20260510T161500
DTEND:20260510T174500
SUMMARY:Badania naukowe w praktyce zawodowej pielęgniarki (Ć): dr hab. Jolanta Chmielowiec\, prof. UZ (PG: ćwA)
CATEGORIES:Ć
LOCATION:305/305a A-22
END:VEVENT
BEGIN:VEVENT
UID:UZ_PLZ_20260515_1800_504060
DTSTAMP:20260515T180000
DTSTART:20260515T180000
DTEND:20260515T193000
SUMMARY:Prawo w praktyce zawodowej pielęgniarki (W): dr n. biol. Dorota Lorkiewicz-Muszyńska
CATEGORIES:W
ATTACH:https://classroom.google.com/c/ODM5NzgwNzg4MTQ0
ATTACH:https://classroom.google.com/c/ODM5NzgwNzg4MTQ0
ATTACH:https://classroom.google.com/c/ODQwMTA2MzAyMDIw
END:VEVENT
BEGIN:VEVENT
UID:UZ_PLZ_20260516_0800_504043
DTSTAMP:20260516T080000
DTSTART:20260516T080000
DTEND:20260516T110000
SUMMARY:Język angielski (Ć): mgr Agata Poźniak (PG: jo1)
CATEGORIES:Ć
LOCATION:304 A-22
END:VEVENT
BEGIN:VEVENT
UID:UZ_PLZ_20260516_1115_504046
DTSTAMP:20260516T111500
DTSTART:20260516T111500
DTEND:20260516T150000
SUMMARY:Badania naukowe w praktyce zawodowej pielęgniarki (W): dr hab. Jolanta Chmielowiec\, prof. UZ
CATEGORIES:W
LOCATION:302 A-22
END:VEVENT
BEGIN:VEVENT
UID:UZ_PLZ_20260516_1515_504039
DTSTAMP:20260516T151500
DTSTART:20260516T151500
DTEND:20260516T181500
SUMMARY:Seminarium dyplomowe (S): dr hab. n. med. Krzysztof Chmielowiec\, prof. UZ (PG: sem2)
CATEGORIES:S
LOCATION:303 A-22
END:VEVENT
BEGIN:VEVENT
UID:UZ_PLZ_20260517_0800_504029
DTSTAMP:20260517T080000
DTSTART:20260517T080000
DTEND:20260517T114500
SUMMARY:Opieka i edukacja terapeutyczna w chorobach przewlekłych układu oddechowego: niewydolności oddechowej i POChP (war): mgr Agnieszka Tyczyńska (PG: CSM2)
CATEGORIES:war
LOCATION:304 A-22
END:VEVENT
BEGIN:VEVENT
UID:UZ_PLZ_20260517_0800_504053
DTSTAMP:20260517T080000
DTSTART:20260517T080000
DTEND:20260517T114500
SUMMARY:Opieka i edukacja terapeutyczna w chorobach przewlekłych: zaburzeniach zdrowia psychicznego oraz rehabilitacja pacjenta z przewlekłymi zaburzeniami zd (war): mgr Bogna Galant (PG: CSM1)
CATEGORIES:war
LOCATION:309 A-22
END:VEVENT
BEGIN:VEVENT
UID:UZ_PLZ_20260517_1200_504048
DTSTAMP:20260517T120000
DTSTART:20260517T120000
DTEND:20260517T154500
SUMMARY:Opieka i edukacja terapeutyczna w chorobach przewlekłych układu oddechowego: niewydolności oddechowej i POChP (war): mgr Agnieszka Tyczyńska (PG: CSM1)
CATEGORIES:war
LOCATION:304 A-22
END:VEVENT
BEGIN:VEVENT
UID:UZ_PLZ_20260517_1200_504031
DTSTAMP:20260517T120000
DTSTART:20260517T120000
DTEND:20260517T154500
SUMMARY:Opieka i edukacja terapeutyczna w chorobach przewlekłych: zaburzeniach zdrowia psychicznego oraz rehabilitacja pacjenta z przewlekłymi zaburzeniami zd (war): mgr Bogna Galant (PG: CSM2)
CATEGORIES:war
LOCATION:309 A-22
END:VEVENT
BEGIN:VEVENT
UID:UZ_PLZ_20260517_1600_504042
DTSTAMP:20260517T160000
DTSTART:20260517T160000
DTEND:20260517T194500
SUMMARY:Badania naukowe w praktyce zawodowej pielęgniarki (Ć): dr hab. Jolanta Chmielowiec\, prof. UZ (PG: ćwA)
CATEGORIES:Ć
LOCATION:302 A-22
END:VEVENT
BEGIN:VEVENT
UID:UZ_PLZ_20260529_1800_504060
DTSTAMP:20260529T180000
DTSTART:20260529T180000
DTEND:20260529T193000
SUMMARY:Prawo w praktyce zawodowej pielęgniarki (W): dr n. biol. Dorota Lorkiewicz-Muszyńska
CATEGORIES:W
ATTACH:https://classroom.google.com/c/ODM5NzgwNzg4MTQ0
ATTACH:https://classroom.google.com/c/ODM5NzgwNzg4MTQ0
ATTACH:https://classroom.google.com/c/ODQwMTA2MzAyMDIw
END:VEVENT
BEGIN:VEVENT
UID:UZ_PLZ_20260530_0800_504043
DTSTAMP:20260530T080000
DTSTART:20260530T080000
DTEND:20260530T110000
SUMMARY:Język angielski (Ć): mgr Agata Poźniak (PG: jo1)
CATEGORIES:Ć
LOCATION:304 A-22
END:VEVENT
BEGIN:VEVENT
UID:UZ_PLZ_20260530_1115_504061
DTSTAMP:20260530T111500
DTSTART:20260530T111500
DTEND:20260530T150000
SUMMARY:Przedmiot do wyboru - Opieka pielęgniarska w kardiologii inwazyjnej (W): dr n. med. Jan Budzianowski (PG: PDW2)
CATEGORIES:W
LOCATION:304 A-22
END:VEVENT
BEGIN:VEVENT
UID:UZ_PLZ_20260530_1515_504052
DTSTAMP:20260530T151500
DTSTART:20260530T151500
DTEND:20260530T164500
SUMMARY:Farmakologia i ordynowanie produktów leczniczych (war): mgr Małgorzata Naporska (PG: CSM1)
CATEGORIES:war
LOCATION:304 A-22
END:VEVENT
BEGIN:VEVENT
UID:UZ_PLZ_20260530_1700_504034
DTSTAMP:20260530T170000
DTSTART:20260530T170000
DTEND:20260530T183000
SUMMARY:Farmakologia i ordynowanie produktów leczniczych (war): mgr Małgorzata Naporska (PG: CSM2)
CATEGORIES:war
LOCATION:304 A-22
END:VEVENT
BEGIN:VEVENT
UID:UZ_PLZ_20260531_0800_504029
DTSTAMP:20260531T080000
DTSTART:20260531T080000
DTEND:20260531T114500
SUMMARY:Opieka i edukacja terapeutyczna w chorobach przewlekłych układu oddechowego: niewydolności oddechowej i POChP (war): mgr Agnieszka Tyczyńska (PG: CSM2)
CATEGORIES:war
LOCATION:304 A-22
END:VEVENT
BEGIN:VEVENT
UID:UZ_PLZ_20260531_0800_504053
DTSTAMP:20260531T080000
DTSTART:20260531T080000
DTEND:20260531T114500
SUMMARY:Opieka i edukacja terapeutyczna w chorobach przewlekłych: zaburzeniach zdrowia psychicznego oraz rehabilitacja pacjenta z przewlekłymi zaburzeniami zd (war): mgr Bogna Galant (PG: CSM1)
CATEGORIES:war
LOCATION:309 A-22
END:VEVENT
BEGIN:VEVENT
UID:UZ_PLZ_20260531_1200_504048
DTSTAMP:20260531T120000
DTSTART:20260531T120000
DTEND:20260531T154500
SUMMARY:Opieka i edukacja terapeutyczna w chorobach przewlekłych układu oddechowego: niewydolności oddechowej i POChP (war): mgr Agnieszka Tyczyńska (PG: CSM1)
CATEGORIES:war
LOCATION:304 A-22
END:VEVENT
BEGIN:VEVENT
UID:UZ_PLZ_20260531_1200_504031
DTSTAMP:20260531T120000
DTSTART:20260531T120000
DTEND:20260531T154500
SUMMARY:Opieka i edukacja terapeutyczna w chorobach przewlekłych: zaburzeniach zdrowia psychicznego oraz rehabilitacja pacjenta z przewlekłymi zaburzeniami zd (war): mgr Bogna Galant (PG: CSM2)
CATEGORIES:war
LOCATION:309 A-22
END:VEVENT
BEGIN:VEVENT
UID:UZ_PLZ_20260531_1600_504052
DTSTAMP:20260531T160000
DTSTART:20260531T160000
DTEND:20260531T173000
SUMMARY:Farmakologia i ordynowanie produktów leczniczych (war): dr Karolina Kieres (PG: CSM1)
CATEGORIES:war
LOCATION:309 A-22
END:VEVENT
BEGIN:VEVENT
UID:UZ_PLZ_20260531_1745_504034
DTSTAMP:20260531T174500
DTSTART:20260531T174500
DTEND:20260531T191500
SUMMARY:Farmakologia i ordynowanie produktów leczniczych (war): dr Karolina Kieres (PG: CSM2)
CATEGORIES:war
LOCATION:309 A-22
END:VEVENT
BEGIN:VEVENT
UID:UZ_PLZ_20260613_0800_504043
DTSTAMP:20260613T080000
DTSTART:20260613T080000
DTEND:20260613T110000
SUMMARY:Język angielski (Ć): mgr Agata Poźniak (PG: jo1)
CATEGORIES:Ć
LOCATION:304 A-22
END:VEVENT
BEGIN:VEVENT
UID:UZ_PLZ_20260613_1115_504061
DTSTAMP:20260613T111500
DTSTART:20260613T111500
DTEND:20260613T150000
SUMMARY:Przedmiot do wyboru - Opieka pielęgniarska w kardiologii inwazyjnej (W): dr n. med. Jan Budzianowski (PG: PDW2)
CATEGORIES:W
LOCATION:304 A-22
END:VEVENT
BEGIN:VEVENT
UID:UZ_PLZ_20260613_1515_504038
DTSTAMP:20260613T151500
DTSTART:20260613T151500
DTEND:20260613T173000
SUMMARY:Przedmiot do wyboru - Opieka pielęgniarska w kardiologii inwazyjnej (Ć): mgr Marzena Tomasik (PG: PDW4)
CATEGORIES:Ć
LOCATION:303 A-22
END:VEVENT
BEGIN:VEVENT
UID:UZ_PLZ_20260614_1200_504046
DTSTAMP:20260614T120000
DTSTART:20260614T120000
DTEND:20260614T154500
SUMMARY:Badania naukowe w praktyce zawodowej pielęgniarki (W): dr hab. Jolanta Chmielowiec\, prof. UZ
CATEGORIES:W
LOCATION:305/305a A-22
END:VEVENT
BEGIN:VEVENT
UID:UZ_PLZ_20260614_1600_504042
DTSTAMP:20260614T160000
DTSTART:20260614T160000
DTEND:20260614T181500
SUMMARY:Badania naukowe w praktyce zawodowej pielęgniarki (Ć): dr hab. Jolanta Chmielowiec\, prof. UZ (PG: ćwA)
CATEGORIES:Ć
LOCATION:305/305a A-22
END:VEVENT
END:VCALENDAR
