BEGIN:VCALENDAR
TZID:Europe/Warsaw
X-WR-TIMEZONE:Europe/Warsaw
VERSION:2.0
PRODID:-//Uniwersytet Zielonogórski//NONSGML Plan zajęć v1.0//EN
NAME:Plan zajęć - semestr letni 2025/2026
X-WR-CALNAME:Plan zajęć - semestr letni 2025/2026
COLOR:green
CALSCALE:GREGORIAN
BEGIN:VEVENT
UID:UZ_PLZ_20260307_0915_502817
DTSTAMP:20260307T091500
DTSTART:20260307T091500
DTEND:20260307T104500
SUMMARY:Podstawy wyceny nieruchomości (W): dr hab. inż. Jacek Korentz\, prof. UZ
CATEGORIES:W
LOCATION:215 A-8
END:VEVENT
BEGIN:VEVENT
UID:UZ_PLZ_20260307_1100_502823
DTSTAMP:20260307T110000
DTSTART:20260307T110000
DTEND:20260307T123000
SUMMARY:Podstawy wyceny nieruchomości (Ć): dr hab. inż. Jacek Korentz\, prof. UZ
CATEGORIES:Ć
LOCATION:215 A-8
END:VEVENT
BEGIN:VEVENT
UID:UZ_PLZ_20260307_1245_502814
DTSTAMP:20260307T124500
DTSTART:20260307T124500
DTEND:20260307T141500
SUMMARY:Przedmiot humanistyczny II w1 (W): dr inż. arch. Inna Abramiuk
CATEGORIES:W
LOCATION:105/106 A-8
END:VEVENT
BEGIN:VEVENT
UID:UZ_PLZ_20260307_1430_502795
DTSTAMP:20260307T143000
DTSTART:20260307T143000
DTEND:20260307T160000
SUMMARY:Wykład monograficzny 1 (W): dr hab. inż. Beata Nowogońska\, prof. UZ
CATEGORIES:W
LOCATION:321 A-8
END:VEVENT
BEGIN:VEVENT
UID:UZ_PLZ_20260307_1615_502794
DTSTAMP:20260307T161500
DTSTART:20260307T161500
DTEND:20260307T174500
SUMMARY:Negocjacje i mediacje w budownictwie (W): dr inż. Patrycja Łychmus
CATEGORIES:W
LOCATION:108 A-2
DESCRIPTION:<a href="https://classroom.google.com/c/ODQ3MzM2OTY2MDUw">Google Classroom</a> 
END:VEVENT
BEGIN:VEVENT
UID:UZ_PLZ_20260308_0915_506666
DTSTAMP:20260308T091500
DTSTART:20260308T091500
DTEND:20260308T104500
SUMMARY:Seminarium dyplomowe (L): dr inż. Anna Kucharczyk-Biedniak (PG: A)
CATEGORIES:L
LOCATION:403 A-8
DESCRIPTION:<a href="https://classroom.google.com/c/ODUwMzk5NzMyOTM2">Google Classroom</a> 
END:VEVENT
BEGIN:VEVENT
UID:UZ_PLZ_20260308_0915_507257
DTSTAMP:20260308T091500
DTSTART:20260308T091500
DTEND:20260308T104500
SUMMARY:Seminarium dyplomowe (L): dr inż. Anna Kucharczyk-Biedniak (PG: B)
CATEGORIES:L
LOCATION:403 A-8
DESCRIPTION:<a href="https://classroom.google.com/c/ODUwMzk5NzMyOTM2">Google Classroom</a> 
END:VEVENT
BEGIN:VEVENT
UID:UZ_PLZ_20260308_1130_502797
DTSTAMP:20260308T113000
DTSTART:20260308T113000
DTEND:20260308T141500
SUMMARY:Język angielski - translatorium (Ć): mgr Wojciech Wieluński (PG: B)
CATEGORIES:Ć
LOCATION:16 A-5
END:VEVENT
BEGIN:VEVENT
UID:UZ_PLZ_20260308_1245_502804
DTSTAMP:20260308T124500
DTSTART:20260308T124500
DTEND:20260308T141500
SUMMARY:Zarządzanie przedsięwzięciami budowlanymi w1 (P): mgr inż. Weronika Malinowska (PG: A)
CATEGORIES:P
LOCATION:116 A-8
DESCRIPTION:<a href="https://classroom.google.com/c/ODQ2OTk0MDc4OTEz">Google Classroom</a> 
END:VEVENT
BEGIN:VEVENT
UID:UZ_PLZ_20260308_1430_502802
DTSTAMP:20260308T143000
DTSTART:20260308T143000
DTEND:20260308T160000
SUMMARY:Zarządzanie przedsięwzięciami budowlanymi w1 (W): dr inż. Bartosz Michalak
CATEGORIES:W
LOCATION:314 A-8
END:VEVENT
BEGIN:VEVENT
UID:UZ_PLZ_20260308_1615_502809
DTSTAMP:20260308T161500
DTSTART:20260308T161500
DTEND:20260308T174500
SUMMARY:Negocjacje i mediacje w budownictwie (Ć): dr inż. Artur Juszczyk
CATEGORIES:Ć
LOCATION:22 A-8
END:VEVENT
BEGIN:VEVENT
UID:UZ_PLZ_20260308_1805_502806
DTSTAMP:20260308T180500
DTSTART:20260308T180500
DTEND:20260308T205000
SUMMARY:Język angielski - translatorium (Ć): mgr Wojciech Wieluński (PG: A)
CATEGORIES:Ć
LOCATION:10 A-5
END:VEVENT
BEGIN:VEVENT
UID:UZ_PLZ_20260321_0730_502821
DTSTAMP:20260321T073000
DTSTART:20260321T073000
DTEND:20260321T090000
SUMMARY:Zarządzanie przedsięwzięciami budowlanymi w1 (P): mgr inż. Weronika Malinowska (PG: B)
CATEGORIES:P
LOCATION:22 A-8
DESCRIPTION:<a href="https://classroom.google.com/c/ODQ2OTk0MDc4OTEz">Google Classroom</a> 
END:VEVENT
BEGIN:VEVENT
UID:UZ_PLZ_20260321_0915_502795
DTSTAMP:20260321T091500
DTSTART:20260321T091500
DTEND:20260321T104500
SUMMARY:Wykład monograficzny 1 (W): dr hab. inż. Beata Nowogońska\, prof. UZ
CATEGORIES:W
LOCATION:321 A-8
END:VEVENT
BEGIN:VEVENT
UID:UZ_PLZ_20260321_1100_502823
DTSTAMP:20260321T110000
DTSTART:20260321T110000
DTEND:20260321T123000
SUMMARY:Podstawy wyceny nieruchomości (Ć): dr hab. inż. Jacek Korentz\, prof. UZ
CATEGORIES:Ć
LOCATION:215 A-8
END:VEVENT
BEGIN:VEVENT
UID:UZ_PLZ_20260321_1245_502814
DTSTAMP:20260321T124500
DTSTART:20260321T124500
DTEND:20260321T141500
SUMMARY:Przedmiot humanistyczny II w1 (W): dr inż. arch. Inna Abramiuk
CATEGORIES:W
LOCATION:105/106 A-8
END:VEVENT
BEGIN:VEVENT
UID:UZ_PLZ_20260328_0915_502817
DTSTAMP:20260328T091500
DTSTART:20260328T091500
DTEND:20260328T104500
SUMMARY:Podstawy wyceny nieruchomości (W): dr hab. inż. Jacek Korentz\, prof. UZ
CATEGORIES:W
LOCATION:215 A-8
END:VEVENT
BEGIN:VEVENT
UID:UZ_PLZ_20260328_1100_502823
DTSTAMP:20260328T110000
DTSTART:20260328T110000
DTEND:20260328T123000
SUMMARY:Podstawy wyceny nieruchomości (Ć): dr hab. inż. Jacek Korentz\, prof. UZ
CATEGORIES:Ć
LOCATION:215 A-8
END:VEVENT
BEGIN:VEVENT
UID:UZ_PLZ_20260328_1245_502814
DTSTAMP:20260328T124500
DTSTART:20260328T124500
DTEND:20260328T141500
SUMMARY:Przedmiot humanistyczny II w1 (W): dr inż. arch. Inna Abramiuk
CATEGORIES:W
LOCATION:105/106 A-8
END:VEVENT
BEGIN:VEVENT
UID:UZ_PLZ_20260328_1430_502795
DTSTAMP:20260328T143000
DTSTART:20260328T143000
DTEND:20260328T160000
SUMMARY:Wykład monograficzny 1 (W): dr hab. inż. Beata Nowogońska\, prof. UZ
CATEGORIES:W
LOCATION:321 A-8
END:VEVENT
BEGIN:VEVENT
UID:UZ_PLZ_20260329_0915_506666
DTSTAMP:20260329T091500
DTSTART:20260329T091500
DTEND:20260329T104500
SUMMARY:Seminarium dyplomowe (L): dr inż. Anna Kucharczyk-Biedniak (PG: A)
CATEGORIES:L
LOCATION:403 A-8
DESCRIPTION:<a href="https://classroom.google.com/c/ODUwMzk5NzMyOTM2">Google Classroom</a> 
END:VEVENT
BEGIN:VEVENT
UID:UZ_PLZ_20260329_0915_507257
DTSTAMP:20260329T091500
DTSTART:20260329T091500
DTEND:20260329T104500
SUMMARY:Seminarium dyplomowe (L): dr inż. Anna Kucharczyk-Biedniak (PG: B)
CATEGORIES:L
LOCATION:403 A-8
DESCRIPTION:<a href="https://classroom.google.com/c/ODUwMzk5NzMyOTM2">Google Classroom</a> 
END:VEVENT
BEGIN:VEVENT
UID:UZ_PLZ_20260329_1130_502797
DTSTAMP:20260329T113000
DTSTART:20260329T113000
DTEND:20260329T141500
SUMMARY:Język angielski - translatorium (Ć): mgr Wojciech Wieluński (PG: B)
CATEGORIES:Ć
LOCATION:16 A-5
END:VEVENT
BEGIN:VEVENT
UID:UZ_PLZ_20260329_1245_502804
DTSTAMP:20260329T124500
DTSTART:20260329T124500
DTEND:20260329T141500
SUMMARY:Zarządzanie przedsięwzięciami budowlanymi w1 (P): mgr inż. Weronika Malinowska (PG: A)
CATEGORIES:P
LOCATION:116 A-8
DESCRIPTION:<a href="https://classroom.google.com/c/ODQ2OTk0MDc4OTEz">Google Classroom</a> 
END:VEVENT
BEGIN:VEVENT
UID:UZ_PLZ_20260329_1430_502802
DTSTAMP:20260329T143000
DTSTART:20260329T143000
DTEND:20260329T160000
SUMMARY:Zarządzanie przedsięwzięciami budowlanymi w1 (W): dr inż. Bartosz Michalak
CATEGORIES:W
LOCATION:314 A-8
END:VEVENT
BEGIN:VEVENT
UID:UZ_PLZ_20260329_1615_502809
DTSTAMP:20260329T161500
DTSTART:20260329T161500
DTEND:20260329T174500
SUMMARY:Negocjacje i mediacje w budownictwie (Ć): dr inż. Artur Juszczyk
CATEGORIES:Ć
LOCATION:22 A-8
END:VEVENT
BEGIN:VEVENT
UID:UZ_PLZ_20260329_1805_502806
DTSTAMP:20260329T180500
DTSTART:20260329T180500
DTEND:20260329T205000
SUMMARY:Język angielski - translatorium (Ć): mgr Wojciech Wieluński (PG: A)
CATEGORIES:Ć
LOCATION:10 A-5
END:VEVENT
BEGIN:VEVENT
UID:UZ_PLZ_20260411_0730_502821
DTSTAMP:20260411T073000
DTSTART:20260411T073000
DTEND:20260411T090000
SUMMARY:Zarządzanie przedsięwzięciami budowlanymi w1 (P): mgr inż. Weronika Malinowska (PG: B)
CATEGORIES:P
LOCATION:22 A-8
DESCRIPTION:<a href="https://classroom.google.com/c/ODQ2OTk0MDc4OTEz">Google Classroom</a> 
END:VEVENT
BEGIN:VEVENT
UID:UZ_PLZ_20260411_0915_502794
DTSTAMP:20260411T091500
DTSTART:20260411T091500
DTEND:20260411T104500
SUMMARY:Negocjacje i mediacje w budownictwie (W): dr inż. Patrycja Łychmus
CATEGORIES:W
LOCATION:215 A-8
DESCRIPTION:<a href="https://classroom.google.com/c/ODQ3MzM2OTY2MDUw">Google Classroom</a> 
END:VEVENT
BEGIN:VEVENT
UID:UZ_PLZ_20260411_1100_502823
DTSTAMP:20260411T110000
DTSTART:20260411T110000
DTEND:20260411T123000
SUMMARY:Podstawy wyceny nieruchomości (Ć): dr hab. inż. Jacek Korentz\, prof. UZ
CATEGORIES:Ć
LOCATION:215 A-8
END:VEVENT
BEGIN:VEVENT
UID:UZ_PLZ_20260411_1245_502814
DTSTAMP:20260411T124500
DTSTART:20260411T124500
DTEND:20260411T141500
SUMMARY:Przedmiot humanistyczny II w1 (W): dr inż. arch. Inna Abramiuk
CATEGORIES:W
LOCATION:105/106 A-8
END:VEVENT
BEGIN:VEVENT
UID:UZ_PLZ_20260411_1430_502795
DTSTAMP:20260411T143000
DTSTART:20260411T143000
DTEND:20260411T160000
SUMMARY:Wykład monograficzny 1 (W): dr hab. inż. Beata Nowogońska\, prof. UZ
CATEGORIES:W
LOCATION:321 A-8
END:VEVENT
BEGIN:VEVENT
UID:UZ_PLZ_20260425_0915_502817
DTSTAMP:20260425T091500
DTSTART:20260425T091500
DTEND:20260425T104500
SUMMARY:Podstawy wyceny nieruchomości (W): dr hab. inż. Jacek Korentz\, prof. UZ
CATEGORIES:W
LOCATION:215 A-8
END:VEVENT
BEGIN:VEVENT
UID:UZ_PLZ_20260425_1100_502823
DTSTAMP:20260425T110000
DTSTART:20260425T110000
DTEND:20260425T123000
SUMMARY:Podstawy wyceny nieruchomości (Ć): dr hab. inż. Jacek Korentz\, prof. UZ
CATEGORIES:Ć
LOCATION:215 A-8
END:VEVENT
BEGIN:VEVENT
UID:UZ_PLZ_20260425_1245_502814
DTSTAMP:20260425T124500
DTSTART:20260425T124500
DTEND:20260425T141500
SUMMARY:Przedmiot humanistyczny II w1 (W): dr inż. arch. Inna Abramiuk
CATEGORIES:W
LOCATION:105/106 A-8
END:VEVENT
BEGIN:VEVENT
UID:UZ_PLZ_20260425_1430_502795
DTSTAMP:20260425T143000
DTSTART:20260425T143000
DTEND:20260425T160000
SUMMARY:Wykład monograficzny 1 (W): dr hab. inż. Beata Nowogońska\, prof. UZ
CATEGORIES:W
LOCATION:321 A-8
END:VEVENT
BEGIN:VEVENT
UID:UZ_PLZ_20260426_0915_506666
DTSTAMP:20260426T091500
DTSTART:20260426T091500
DTEND:20260426T104500
SUMMARY:Seminarium dyplomowe (L): dr inż. Anna Kucharczyk-Biedniak (PG: A)
CATEGORIES:L
LOCATION:403 A-8
DESCRIPTION:<a href="https://classroom.google.com/c/ODUwMzk5NzMyOTM2">Google Classroom</a> 
END:VEVENT
BEGIN:VEVENT
UID:UZ_PLZ_20260426_0915_507257
DTSTAMP:20260426T091500
DTSTART:20260426T091500
DTEND:20260426T104500
SUMMARY:Seminarium dyplomowe (L): dr inż. Anna Kucharczyk-Biedniak (PG: B)
CATEGORIES:L
LOCATION:403 A-8
DESCRIPTION:<a href="https://classroom.google.com/c/ODUwMzk5NzMyOTM2">Google Classroom</a> 
END:VEVENT
BEGIN:VEVENT
UID:UZ_PLZ_20260426_1130_502797
DTSTAMP:20260426T113000
DTSTART:20260426T113000
DTEND:20260426T141500
SUMMARY:Język angielski - translatorium (Ć): mgr Wojciech Wieluński (PG: B)
CATEGORIES:Ć
LOCATION:16 A-5
END:VEVENT
BEGIN:VEVENT
UID:UZ_PLZ_20260426_1245_502804
DTSTAMP:20260426T124500
DTSTART:20260426T124500
DTEND:20260426T141500
SUMMARY:Zarządzanie przedsięwzięciami budowlanymi w1 (P): mgr inż. Weronika Malinowska (PG: A)
CATEGORIES:P
LOCATION:116 A-8
DESCRIPTION:<a href="https://classroom.google.com/c/ODQ2OTk0MDc4OTEz">Google Classroom</a> 
END:VEVENT
BEGIN:VEVENT
UID:UZ_PLZ_20260426_1430_502802
DTSTAMP:20260426T143000
DTSTART:20260426T143000
DTEND:20260426T160000
SUMMARY:Zarządzanie przedsięwzięciami budowlanymi w1 (W): dr inż. Bartosz Michalak
CATEGORIES:W
LOCATION:314 A-8
END:VEVENT
BEGIN:VEVENT
UID:UZ_PLZ_20260426_1615_502809
DTSTAMP:20260426T161500
DTSTART:20260426T161500
DTEND:20260426T174500
SUMMARY:Negocjacje i mediacje w budownictwie (Ć): dr inż. Artur Juszczyk
CATEGORIES:Ć
LOCATION:22 A-8
END:VEVENT
BEGIN:VEVENT
UID:UZ_PLZ_20260426_1805_502806
DTSTAMP:20260426T180500
DTSTART:20260426T180500
DTEND:20260426T205000
SUMMARY:Język angielski - translatorium (Ć): mgr Wojciech Wieluński (PG: A)
CATEGORIES:Ć
LOCATION:10 A-5
END:VEVENT
BEGIN:VEVENT
UID:UZ_PLZ_20260509_0730_502821
DTSTAMP:20260509T073000
DTSTART:20260509T073000
DTEND:20260509T090000
SUMMARY:Zarządzanie przedsięwzięciami budowlanymi w1 (P): mgr inż. Weronika Malinowska (PG: B)
CATEGORIES:P
LOCATION:22 A-8
DESCRIPTION:<a href="https://classroom.google.com/c/ODQ2OTk0MDc4OTEz">Google Classroom</a> 
END:VEVENT
BEGIN:VEVENT
UID:UZ_PLZ_20260509_0915_502794
DTSTAMP:20260509T091500
DTSTART:20260509T091500
DTEND:20260509T104500
SUMMARY:Negocjacje i mediacje w budownictwie (W): dr inż. Patrycja Łychmus
CATEGORIES:W
LOCATION:215 A-8
DESCRIPTION:<a href="https://classroom.google.com/c/ODQ3MzM2OTY2MDUw">Google Classroom</a> 
END:VEVENT
BEGIN:VEVENT
UID:UZ_PLZ_20260509_1100_502823
DTSTAMP:20260509T110000
DTSTART:20260509T110000
DTEND:20260509T123000
SUMMARY:Podstawy wyceny nieruchomości (Ć): dr hab. inż. Jacek Korentz\, prof. UZ
CATEGORIES:Ć
LOCATION:215 A-8
END:VEVENT
BEGIN:VEVENT
UID:UZ_PLZ_20260509_1245_502814
DTSTAMP:20260509T124500
DTSTART:20260509T124500
DTEND:20260509T141500
SUMMARY:Przedmiot humanistyczny II w1 (W): dr inż. arch. Inna Abramiuk
CATEGORIES:W
LOCATION:105/106 A-8
END:VEVENT
BEGIN:VEVENT
UID:UZ_PLZ_20260509_1430_502795
DTSTAMP:20260509T143000
DTSTART:20260509T143000
DTEND:20260509T160000
SUMMARY:Wykład monograficzny 1 (W): dr hab. inż. Beata Nowogońska\, prof. UZ
CATEGORIES:W
LOCATION:321 A-8
END:VEVENT
BEGIN:VEVENT
UID:UZ_PLZ_20260516_0915_502817
DTSTAMP:20260516T091500
DTSTART:20260516T091500
DTEND:20260516T104500
SUMMARY:Podstawy wyceny nieruchomości (W): dr hab. inż. Jacek Korentz\, prof. UZ
CATEGORIES:W
LOCATION:215 A-8
END:VEVENT
BEGIN:VEVENT
UID:UZ_PLZ_20260516_1100_502823
DTSTAMP:20260516T110000
DTSTART:20260516T110000
DTEND:20260516T123000
SUMMARY:Podstawy wyceny nieruchomości (Ć): dr hab. inż. Jacek Korentz\, prof. UZ
CATEGORIES:Ć
LOCATION:215 A-8
END:VEVENT
BEGIN:VEVENT
UID:UZ_PLZ_20260516_1245_502814
DTSTAMP:20260516T124500
DTSTART:20260516T124500
DTEND:20260516T141500
SUMMARY:Przedmiot humanistyczny II w1 (W): dr inż. arch. Inna Abramiuk
CATEGORIES:W
LOCATION:105/106 A-8
END:VEVENT
BEGIN:VEVENT
UID:UZ_PLZ_20260516_1430_502795
DTSTAMP:20260516T143000
DTSTART:20260516T143000
DTEND:20260516T160000
SUMMARY:Wykład monograficzny 1 (W): dr hab. inż. Beata Nowogońska\, prof. UZ
CATEGORIES:W
LOCATION:321 A-8
END:VEVENT
BEGIN:VEVENT
UID:UZ_PLZ_20260517_0915_506666
DTSTAMP:20260517T091500
DTSTART:20260517T091500
DTEND:20260517T104500
SUMMARY:Seminarium dyplomowe (L): dr inż. Anna Kucharczyk-Biedniak (PG: A)
CATEGORIES:L
LOCATION:403 A-8
DESCRIPTION:<a href="https://classroom.google.com/c/ODUwMzk5NzMyOTM2">Google Classroom</a> 
END:VEVENT
BEGIN:VEVENT
UID:UZ_PLZ_20260517_0915_507257
DTSTAMP:20260517T091500
DTSTART:20260517T091500
DTEND:20260517T104500
SUMMARY:Seminarium dyplomowe (L): dr inż. Anna Kucharczyk-Biedniak (PG: B)
CATEGORIES:L
LOCATION:403 A-8
DESCRIPTION:<a href="https://classroom.google.com/c/ODUwMzk5NzMyOTM2">Google Classroom</a> 
END:VEVENT
BEGIN:VEVENT
UID:UZ_PLZ_20260517_1130_502797
DTSTAMP:20260517T113000
DTSTART:20260517T113000
DTEND:20260517T141500
SUMMARY:Język angielski - translatorium (Ć): mgr Wojciech Wieluński (PG: B)
CATEGORIES:Ć
LOCATION:16 A-5
END:VEVENT
BEGIN:VEVENT
UID:UZ_PLZ_20260517_1245_502804
DTSTAMP:20260517T124500
DTSTART:20260517T124500
DTEND:20260517T141500
SUMMARY:Zarządzanie przedsięwzięciami budowlanymi w1 (P): mgr inż. Weronika Malinowska (PG: A)
CATEGORIES:P
LOCATION:116 A-8
DESCRIPTION:<a href="https://classroom.google.com/c/ODQ2OTk0MDc4OTEz">Google Classroom</a> 
END:VEVENT
BEGIN:VEVENT
UID:UZ_PLZ_20260517_1430_502802
DTSTAMP:20260517T143000
DTSTART:20260517T143000
DTEND:20260517T160000
SUMMARY:Zarządzanie przedsięwzięciami budowlanymi w1 (W): dr inż. Bartosz Michalak
CATEGORIES:W
LOCATION:314 A-8
END:VEVENT
BEGIN:VEVENT
UID:UZ_PLZ_20260517_1615_502809
DTSTAMP:20260517T161500
DTSTART:20260517T161500
DTEND:20260517T174500
SUMMARY:Negocjacje i mediacje w budownictwie (Ć): dr inż. Artur Juszczyk
CATEGORIES:Ć
LOCATION:22 A-8
END:VEVENT
BEGIN:VEVENT
UID:UZ_PLZ_20260517_1805_502806
DTSTAMP:20260517T180500
DTSTART:20260517T180500
DTEND:20260517T205000
SUMMARY:Język angielski - translatorium (Ć): mgr Wojciech Wieluński (PG: A)
CATEGORIES:Ć
LOCATION:10 A-5
END:VEVENT
BEGIN:VEVENT
UID:UZ_PLZ_20260530_0730_502821
DTSTAMP:20260530T073000
DTSTART:20260530T073000
DTEND:20260530T090000
SUMMARY:Zarządzanie przedsięwzięciami budowlanymi w1 (P): mgr inż. Weronika Malinowska (PG: B)
CATEGORIES:P
LOCATION:22 A-8
DESCRIPTION:<a href="https://classroom.google.com/c/ODQ2OTk0MDc4OTEz">Google Classroom</a> 
END:VEVENT
BEGIN:VEVENT
UID:UZ_PLZ_20260530_0915_502794
DTSTAMP:20260530T091500
DTSTART:20260530T091500
DTEND:20260530T104500
SUMMARY:Negocjacje i mediacje w budownictwie (W): dr inż. Patrycja Łychmus
CATEGORIES:W
LOCATION:215 A-8
DESCRIPTION:<a href="https://classroom.google.com/c/ODQ3MzM2OTY2MDUw">Google Classroom</a> 
END:VEVENT
BEGIN:VEVENT
UID:UZ_PLZ_20260530_1100_502823
DTSTAMP:20260530T110000
DTSTART:20260530T110000
DTEND:20260530T123000
SUMMARY:Podstawy wyceny nieruchomości (Ć): dr hab. inż. Jacek Korentz\, prof. UZ
CATEGORIES:Ć
LOCATION:215 A-8
END:VEVENT
BEGIN:VEVENT
UID:UZ_PLZ_20260530_1245_502814
DTSTAMP:20260530T124500
DTSTART:20260530T124500
DTEND:20260530T141500
SUMMARY:Przedmiot humanistyczny II w1 (W): dr inż. arch. Inna Abramiuk
CATEGORIES:W
LOCATION:105/106 A-8
END:VEVENT
BEGIN:VEVENT
UID:UZ_PLZ_20260530_1430_502795
DTSTAMP:20260530T143000
DTSTART:20260530T143000
DTEND:20260530T160000
SUMMARY:Wykład monograficzny 1 (W): dr hab. inż. Beata Nowogońska\, prof. UZ
CATEGORIES:W
LOCATION:321 A-8
END:VEVENT
BEGIN:VEVENT
UID:UZ_PLZ_20260613_1005_502817
DTSTAMP:20260613T100500
DTSTART:20260613T100500
DTEND:20260613T105000
SUMMARY:Podstawy wyceny nieruchomości (W): dr hab. inż. Jacek Korentz\, prof. UZ
CATEGORIES:W
LOCATION:215 A-8
END:VEVENT
BEGIN:VEVENT
UID:UZ_PLZ_20260613_1100_502823
DTSTAMP:20260613T110000
DTSTART:20260613T110000
DTEND:20260613T123000
SUMMARY:Podstawy wyceny nieruchomości (Ć): dr hab. inż. Jacek Korentz\, prof. UZ
CATEGORIES:Ć
LOCATION:215 A-8
END:VEVENT
BEGIN:VEVENT
UID:UZ_PLZ_20260613_1245_502814
DTSTAMP:20260613T124500
DTSTART:20260613T124500
DTEND:20260613T141500
SUMMARY:Przedmiot humanistyczny II w1 (W): dr inż. arch. Inna Abramiuk
CATEGORIES:W
LOCATION:105/106 A-8
END:VEVENT
BEGIN:VEVENT
UID:UZ_PLZ_20260613_1430_502795
DTSTAMP:20260613T143000
DTSTART:20260613T143000
DTEND:20260613T160000
SUMMARY:Wykład monograficzny 1 (W): dr hab. inż. Beata Nowogońska\, prof. UZ
CATEGORIES:W
LOCATION:321 A-8
END:VEVENT
BEGIN:VEVENT
UID:UZ_PLZ_20260613_1615_502794
DTSTAMP:20260613T161500
DTSTART:20260613T161500
DTEND:20260613T170000
SUMMARY:Negocjacje i mediacje w budownictwie (W): dr inż. Patrycja Łychmus
CATEGORIES:W
LOCATION:321 A-8
DESCRIPTION:<a href="https://classroom.google.com/c/ODQ3MzM2OTY2MDUw">Google Classroom</a> 
END:VEVENT
BEGIN:VEVENT
UID:UZ_PLZ_20260614_1000_507257
DTSTAMP:20260614T100000
DTSTART:20260614T100000
DTEND:20260614T104500
SUMMARY:Seminarium dyplomowe (L): dr inż. Anna Kucharczyk-Biedniak (PG: B)
CATEGORIES:L
LOCATION:403 A-8
DESCRIPTION:<a href="https://classroom.google.com/c/ODUwMzk5NzMyOTM2">Google Classroom</a> 
END:VEVENT
BEGIN:VEVENT
UID:UZ_PLZ_20260614_1130_502797
DTSTAMP:20260614T113000
DTSTART:20260614T113000
DTEND:20260614T141500
SUMMARY:Język angielski - translatorium (Ć): mgr Wojciech Wieluński (PG: B)
CATEGORIES:Ć
LOCATION:16 A-5
END:VEVENT
BEGIN:VEVENT
UID:UZ_PLZ_20260614_1425_502804
DTSTAMP:20260614T142500
DTSTART:20260614T142500
DTEND:20260614T151000
SUMMARY:Zarządzanie przedsięwzięciami budowlanymi w1 (P): mgr inż. Weronika Malinowska (PG: A)
CATEGORIES:P
LOCATION:314 A-8
DESCRIPTION:<a href="https://classroom.google.com/c/ODQ2OTk0MDc4OTEz">Google Classroom</a> 
END:VEVENT
BEGIN:VEVENT
UID:UZ_PLZ_20260614_1520_502802
DTSTAMP:20260614T152000
DTSTART:20260614T152000
DTEND:20260614T160500
SUMMARY:Zarządzanie przedsięwzięciami budowlanymi w1 (W): dr inż. Bartosz Michalak
CATEGORIES:W
LOCATION:314 A-8
END:VEVENT
BEGIN:VEVENT
UID:UZ_PLZ_20260614_1610_502809
DTSTAMP:20260614T161000
DTSTART:20260614T161000
DTEND:20260614T165500
SUMMARY:Negocjacje i mediacje w budownictwie (Ć): dr inż. Artur Juszczyk
CATEGORIES:Ć
LOCATION:22 A-8
END:VEVENT
BEGIN:VEVENT
UID:UZ_PLZ_20260614_1705_502821
DTSTAMP:20260614T170500
DTSTART:20260614T170500
DTEND:20260614T175000
SUMMARY:Zarządzanie przedsięwzięciami budowlanymi w1 (P): mgr inż. Weronika Malinowska (PG: B)
CATEGORIES:P
LOCATION:107 A-8
DESCRIPTION:<a href="https://classroom.google.com/c/ODQ2OTk0MDc4OTEz">Google Classroom</a> 
END:VEVENT
BEGIN:VEVENT
UID:UZ_PLZ_20260614_1805_502806
DTSTAMP:20260614T180500
DTSTART:20260614T180500
DTEND:20260614T205000
SUMMARY:Język angielski - translatorium (Ć): mgr Wojciech Wieluński (PG: A)
CATEGORIES:Ć
LOCATION:10 A-5
END:VEVENT
END:VCALENDAR
