BEGIN:VCALENDAR
TZID:Europe/Warsaw
X-WR-TIMEZONE:Europe/Warsaw
VERSION:2.0
PRODID:-//Uniwersytet Zielonogórski//NONSGML Plan zajęć v1.0//EN
NAME:Plan zajęć - semestr letni 2025/2026
X-WR-CALNAME:Plan zajęć - semestr letni 2025/2026
COLOR:green
CALSCALE:GREGORIAN
BEGIN:VEVENT
UID:UZ_PLZ_20260307_0915_502808
DTSTAMP:20260307T091500
DTSTART:20260307T091500
DTEND:20260307T104500
SUMMARY:Negocjacje i mediacje w budownictwie (W): dr inż. Patrycja Łychmus
CATEGORIES:W
LOCATION:314 A-8
DESCRIPTION:<a href="https://classroom.google.com/c/ODQ3MzM3MDM2OTcx">Google Classroom</a> 
END:VEVENT
BEGIN:VEVENT
UID:UZ_PLZ_20260307_1100_502799
DTSTAMP:20260307T110000
DTSTART:20260307T110000
DTEND:20260307T123000
SUMMARY:Przedmiot humanistyczny II w1 (W): dr inż. arch. Inna Abramiuk
CATEGORIES:W
LOCATION:105/106 A-8
DESCRIPTION:<a href="https://classroom.google.com/c/ODUwMTc0MTk1NDA5">Google Classroom</a> 
END:VEVENT
BEGIN:VEVENT
UID:UZ_PLZ_20260307_1245_502816
DTSTAMP:20260307T124500
DTSTART:20260307T124500
DTEND:20260307T141500
SUMMARY:Wykład monograficzny 1 (W): dr hab. inż. Jacek Korentz\, prof. UZ
CATEGORIES:W
LOCATION:215 A-8
END:VEVENT
BEGIN:VEVENT
UID:UZ_PLZ_20260307_1615_502800
DTSTAMP:20260307T161500
DTSTART:20260307T161500
DTEND:20260307T174500
SUMMARY:Renowacja budynków (L): dr hab. inż. Beata Nowogońska\, prof. UZ
CATEGORIES:L
LOCATION:314 A-8
END:VEVENT
BEGIN:VEVENT
UID:UZ_PLZ_20260308_0915_502792
DTSTAMP:20260308T091500
DTSTART:20260308T091500
DTEND:20260308T104500
SUMMARY:Język angielski - translatorium (Ć): mgr Wojciech Wieluński
CATEGORIES:Ć
LOCATION:16 A-5
END:VEVENT
BEGIN:VEVENT
UID:UZ_PLZ_20260308_1100_502801
DTSTAMP:20260308T110000
DTSTART:20260308T110000
DTEND:20260308T123000
SUMMARY:Zarządzanie przedsięwzięciami budowlanymi w1 (P): mgr inż. Weronika Malinowska
CATEGORIES:P
LOCATION:105/106 A-8
DESCRIPTION:<a href="https://classroom.google.com/c/ODQ2OTk0MDc4OTEz">Google Classroom</a> 
END:VEVENT
BEGIN:VEVENT
UID:UZ_PLZ_20260308_1245_502796
DTSTAMP:20260308T124500
DTSTART:20260308T124500
DTEND:20260308T141500
SUMMARY:Zarządzanie przedsięwzięciami budowlanymi w1 (W): dr inż. Bartosz Michalak
CATEGORIES:W
LOCATION:105/106 A-8
END:VEVENT
BEGIN:VEVENT
UID:UZ_PLZ_20260308_1430_502798
DTSTAMP:20260308T143000
DTSTART:20260308T143000
DTEND:20260308T160000
SUMMARY:Negocjacje i mediacje w budownictwie (Ć): dr inż. Artur Juszczyk
CATEGORIES:Ć
LOCATION:22 A-8
END:VEVENT
BEGIN:VEVENT
UID:UZ_PLZ_20260321_1100_502799
DTSTAMP:20260321T110000
DTSTART:20260321T110000
DTEND:20260321T123000
SUMMARY:Przedmiot humanistyczny II w1 (W): dr inż. arch. Inna Abramiuk
CATEGORIES:W
LOCATION:105/106 A-8
DESCRIPTION:<a href="https://classroom.google.com/c/ODUwMTc0MTk1NDA5">Google Classroom</a> 
END:VEVENT
BEGIN:VEVENT
UID:UZ_PLZ_20260321_1245_502816
DTSTAMP:20260321T124500
DTSTART:20260321T124500
DTEND:20260321T141500
SUMMARY:Wykład monograficzny 1 (W): dr hab. inż. Jacek Korentz\, prof. UZ
CATEGORIES:W
LOCATION:215 A-8
END:VEVENT
BEGIN:VEVENT
UID:UZ_PLZ_20260322_0915_502792
DTSTAMP:20260322T091500
DTSTART:20260322T091500
DTEND:20260322T104500
SUMMARY:Język angielski - translatorium (Ć): mgr Wojciech Wieluński
CATEGORIES:Ć
LOCATION:16 A-5
END:VEVENT
BEGIN:VEVENT
UID:UZ_PLZ_20260328_0915_502808
DTSTAMP:20260328T091500
DTSTART:20260328T091500
DTEND:20260328T104500
SUMMARY:Negocjacje i mediacje w budownictwie (W): dr inż. Patrycja Łychmus
CATEGORIES:W
LOCATION:314 A-8
DESCRIPTION:<a href="https://classroom.google.com/c/ODQ3MzM3MDM2OTcx">Google Classroom</a> 
END:VEVENT
BEGIN:VEVENT
UID:UZ_PLZ_20260328_1100_502799
DTSTAMP:20260328T110000
DTSTART:20260328T110000
DTEND:20260328T123000
SUMMARY:Przedmiot humanistyczny II w1 (W): dr inż. arch. Inna Abramiuk
CATEGORIES:W
LOCATION:105/106 A-8
DESCRIPTION:<a href="https://classroom.google.com/c/ODUwMTc0MTk1NDA5">Google Classroom</a> 
END:VEVENT
BEGIN:VEVENT
UID:UZ_PLZ_20260328_1245_502816
DTSTAMP:20260328T124500
DTSTART:20260328T124500
DTEND:20260328T141500
SUMMARY:Wykład monograficzny 1 (W): dr hab. inż. Jacek Korentz\, prof. UZ
CATEGORIES:W
LOCATION:215 A-8
END:VEVENT
BEGIN:VEVENT
UID:UZ_PLZ_20260328_1615_502800
DTSTAMP:20260328T161500
DTSTART:20260328T161500
DTEND:20260328T174500
SUMMARY:Renowacja budynków (L): dr hab. inż. Beata Nowogońska\, prof. UZ
CATEGORIES:L
LOCATION:314 A-8
END:VEVENT
BEGIN:VEVENT
UID:UZ_PLZ_20260329_0915_502792
DTSTAMP:20260329T091500
DTSTART:20260329T091500
DTEND:20260329T104500
SUMMARY:Język angielski - translatorium (Ć): mgr Wojciech Wieluński
CATEGORIES:Ć
LOCATION:16 A-5
END:VEVENT
BEGIN:VEVENT
UID:UZ_PLZ_20260329_1100_502801
DTSTAMP:20260329T110000
DTSTART:20260329T110000
DTEND:20260329T123000
SUMMARY:Zarządzanie przedsięwzięciami budowlanymi w1 (P): mgr inż. Weronika Malinowska
CATEGORIES:P
LOCATION:105/106 A-8
DESCRIPTION:<a href="https://classroom.google.com/c/ODQ2OTk0MDc4OTEz">Google Classroom</a> 
END:VEVENT
BEGIN:VEVENT
UID:UZ_PLZ_20260329_1245_502796
DTSTAMP:20260329T124500
DTSTART:20260329T124500
DTEND:20260329T141500
SUMMARY:Zarządzanie przedsięwzięciami budowlanymi w1 (W): dr inż. Bartosz Michalak
CATEGORIES:W
LOCATION:105/106 A-8
END:VEVENT
BEGIN:VEVENT
UID:UZ_PLZ_20260329_1430_502798
DTSTAMP:20260329T143000
DTSTART:20260329T143000
DTEND:20260329T160000
SUMMARY:Negocjacje i mediacje w budownictwie (Ć): dr inż. Artur Juszczyk
CATEGORIES:Ć
LOCATION:22 A-8
END:VEVENT
BEGIN:VEVENT
UID:UZ_PLZ_20260411_1100_502799
DTSTAMP:20260411T110000
DTSTART:20260411T110000
DTEND:20260411T123000
SUMMARY:Przedmiot humanistyczny II w1 (W): dr inż. arch. Inna Abramiuk
CATEGORIES:W
LOCATION:105/106 A-8
DESCRIPTION:<a href="https://classroom.google.com/c/ODUwMTc0MTk1NDA5">Google Classroom</a> 
END:VEVENT
BEGIN:VEVENT
UID:UZ_PLZ_20260411_1245_502816
DTSTAMP:20260411T124500
DTSTART:20260411T124500
DTEND:20260411T141500
SUMMARY:Wykład monograficzny 1 (W): dr hab. inż. Jacek Korentz\, prof. UZ
CATEGORIES:W
LOCATION:215 A-8
END:VEVENT
BEGIN:VEVENT
UID:UZ_PLZ_20260412_0915_502792
DTSTAMP:20260412T091500
DTSTART:20260412T091500
DTEND:20260412T104500
SUMMARY:Język angielski - translatorium (Ć): mgr Wojciech Wieluński
CATEGORIES:Ć
LOCATION:16 A-5
END:VEVENT
BEGIN:VEVENT
UID:UZ_PLZ_20260425_0915_502808
DTSTAMP:20260425T091500
DTSTART:20260425T091500
DTEND:20260425T104500
SUMMARY:Negocjacje i mediacje w budownictwie (W): dr inż. Patrycja Łychmus
CATEGORIES:W
LOCATION:314 A-8
DESCRIPTION:<a href="https://classroom.google.com/c/ODQ3MzM3MDM2OTcx">Google Classroom</a> 
END:VEVENT
BEGIN:VEVENT
UID:UZ_PLZ_20260425_1100_502799
DTSTAMP:20260425T110000
DTSTART:20260425T110000
DTEND:20260425T123000
SUMMARY:Przedmiot humanistyczny II w1 (W): dr inż. arch. Inna Abramiuk
CATEGORIES:W
LOCATION:105/106 A-8
DESCRIPTION:<a href="https://classroom.google.com/c/ODUwMTc0MTk1NDA5">Google Classroom</a> 
END:VEVENT
BEGIN:VEVENT
UID:UZ_PLZ_20260425_1245_502816
DTSTAMP:20260425T124500
DTSTART:20260425T124500
DTEND:20260425T141500
SUMMARY:Wykład monograficzny 1 (W): dr hab. inż. Jacek Korentz\, prof. UZ
CATEGORIES:W
LOCATION:215 A-8
END:VEVENT
BEGIN:VEVENT
UID:UZ_PLZ_20260425_1615_502800
DTSTAMP:20260425T161500
DTSTART:20260425T161500
DTEND:20260425T174500
SUMMARY:Renowacja budynków (L): dr hab. inż. Beata Nowogońska\, prof. UZ
CATEGORIES:L
LOCATION:314 A-8
END:VEVENT
BEGIN:VEVENT
UID:UZ_PLZ_20260426_0915_502792
DTSTAMP:20260426T091500
DTSTART:20260426T091500
DTEND:20260426T104500
SUMMARY:Język angielski - translatorium (Ć): mgr Wojciech Wieluński
CATEGORIES:Ć
LOCATION:16 A-5
END:VEVENT
BEGIN:VEVENT
UID:UZ_PLZ_20260426_1100_502801
DTSTAMP:20260426T110000
DTSTART:20260426T110000
DTEND:20260426T123000
SUMMARY:Zarządzanie przedsięwzięciami budowlanymi w1 (P): mgr inż. Weronika Malinowska
CATEGORIES:P
LOCATION:105/106 A-8
DESCRIPTION:<a href="https://classroom.google.com/c/ODQ2OTk0MDc4OTEz">Google Classroom</a> 
END:VEVENT
BEGIN:VEVENT
UID:UZ_PLZ_20260426_1245_502796
DTSTAMP:20260426T124500
DTSTART:20260426T124500
DTEND:20260426T141500
SUMMARY:Zarządzanie przedsięwzięciami budowlanymi w1 (W): dr inż. Bartosz Michalak
CATEGORIES:W
LOCATION:105/106 A-8
END:VEVENT
BEGIN:VEVENT
UID:UZ_PLZ_20260426_1430_502798
DTSTAMP:20260426T143000
DTSTART:20260426T143000
DTEND:20260426T160000
SUMMARY:Negocjacje i mediacje w budownictwie (Ć): dr inż. Artur Juszczyk
CATEGORIES:Ć
LOCATION:22 A-8
END:VEVENT
BEGIN:VEVENT
UID:UZ_PLZ_20260509_1100_502799
DTSTAMP:20260509T110000
DTSTART:20260509T110000
DTEND:20260509T123000
SUMMARY:Przedmiot humanistyczny II w1 (W): dr inż. arch. Inna Abramiuk
CATEGORIES:W
LOCATION:105/106 A-8
DESCRIPTION:<a href="https://classroom.google.com/c/ODUwMTc0MTk1NDA5">Google Classroom</a> 
END:VEVENT
BEGIN:VEVENT
UID:UZ_PLZ_20260509_1245_502816
DTSTAMP:20260509T124500
DTSTART:20260509T124500
DTEND:20260509T141500
SUMMARY:Wykład monograficzny 1 (W): dr hab. inż. Jacek Korentz\, prof. UZ
CATEGORIES:W
LOCATION:215 A-8
END:VEVENT
BEGIN:VEVENT
UID:UZ_PLZ_20260510_0915_502792
DTSTAMP:20260510T091500
DTSTART:20260510T091500
DTEND:20260510T104500
SUMMARY:Język angielski - translatorium (Ć): mgr Wojciech Wieluński
CATEGORIES:Ć
LOCATION:16 A-5
END:VEVENT
BEGIN:VEVENT
UID:UZ_PLZ_20260516_0915_502808
DTSTAMP:20260516T091500
DTSTART:20260516T091500
DTEND:20260516T104500
SUMMARY:Negocjacje i mediacje w budownictwie (W): dr inż. Patrycja Łychmus
CATEGORIES:W
LOCATION:314 A-8
DESCRIPTION:<a href="https://classroom.google.com/c/ODQ3MzM3MDM2OTcx">Google Classroom</a> 
END:VEVENT
BEGIN:VEVENT
UID:UZ_PLZ_20260516_1100_502799
DTSTAMP:20260516T110000
DTSTART:20260516T110000
DTEND:20260516T123000
SUMMARY:Przedmiot humanistyczny II w1 (W): dr inż. arch. Inna Abramiuk
CATEGORIES:W
LOCATION:105/106 A-8
DESCRIPTION:<a href="https://classroom.google.com/c/ODUwMTc0MTk1NDA5">Google Classroom</a> 
END:VEVENT
BEGIN:VEVENT
UID:UZ_PLZ_20260516_1245_502816
DTSTAMP:20260516T124500
DTSTART:20260516T124500
DTEND:20260516T141500
SUMMARY:Wykład monograficzny 1 (W): dr hab. inż. Jacek Korentz\, prof. UZ
CATEGORIES:W
LOCATION:215 A-8
END:VEVENT
BEGIN:VEVENT
UID:UZ_PLZ_20260516_1615_502800
DTSTAMP:20260516T161500
DTSTART:20260516T161500
DTEND:20260516T174500
SUMMARY:Renowacja budynków (L): dr hab. inż. Beata Nowogońska\, prof. UZ
CATEGORIES:L
LOCATION:314 A-8
END:VEVENT
BEGIN:VEVENT
UID:UZ_PLZ_20260517_0915_502792
DTSTAMP:20260517T091500
DTSTART:20260517T091500
DTEND:20260517T104500
SUMMARY:Język angielski - translatorium (Ć): mgr Wojciech Wieluński
CATEGORIES:Ć
LOCATION:16 A-5
END:VEVENT
BEGIN:VEVENT
UID:UZ_PLZ_20260517_1100_502801
DTSTAMP:20260517T110000
DTSTART:20260517T110000
DTEND:20260517T123000
SUMMARY:Zarządzanie przedsięwzięciami budowlanymi w1 (P): mgr inż. Weronika Malinowska
CATEGORIES:P
LOCATION:105/106 A-8
DESCRIPTION:<a href="https://classroom.google.com/c/ODQ2OTk0MDc4OTEz">Google Classroom</a> 
END:VEVENT
BEGIN:VEVENT
UID:UZ_PLZ_20260517_1245_502796
DTSTAMP:20260517T124500
DTSTART:20260517T124500
DTEND:20260517T141500
SUMMARY:Zarządzanie przedsięwzięciami budowlanymi w1 (W): dr inż. Bartosz Michalak
CATEGORIES:W
LOCATION:105/106 A-8
END:VEVENT
BEGIN:VEVENT
UID:UZ_PLZ_20260517_1430_502798
DTSTAMP:20260517T143000
DTSTART:20260517T143000
DTEND:20260517T160000
SUMMARY:Negocjacje i mediacje w budownictwie (Ć): dr inż. Artur Juszczyk
CATEGORIES:Ć
LOCATION:22 A-8
END:VEVENT
BEGIN:VEVENT
UID:UZ_PLZ_20260530_1100_502799
DTSTAMP:20260530T110000
DTSTART:20260530T110000
DTEND:20260530T123000
SUMMARY:Przedmiot humanistyczny II w1 (W): dr inż. arch. Inna Abramiuk
CATEGORIES:W
LOCATION:105/106 A-8
DESCRIPTION:<a href="https://classroom.google.com/c/ODUwMTc0MTk1NDA5">Google Classroom</a> 
END:VEVENT
BEGIN:VEVENT
UID:UZ_PLZ_20260530_1245_502816
DTSTAMP:20260530T124500
DTSTART:20260530T124500
DTEND:20260530T141500
SUMMARY:Wykład monograficzny 1 (W): dr hab. inż. Jacek Korentz\, prof. UZ
CATEGORIES:W
LOCATION:215 A-8
END:VEVENT
BEGIN:VEVENT
UID:UZ_PLZ_20260531_0915_502792
DTSTAMP:20260531T091500
DTSTART:20260531T091500
DTEND:20260531T104500
SUMMARY:Język angielski - translatorium (Ć): mgr Wojciech Wieluński
CATEGORIES:Ć
LOCATION:16 A-5
END:VEVENT
BEGIN:VEVENT
UID:UZ_PLZ_20260613_1005_502808
DTSTAMP:20260613T100500
DTSTART:20260613T100500
DTEND:20260613T105000
SUMMARY:Negocjacje i mediacje w budownictwie (W): dr inż. Patrycja Łychmus
CATEGORIES:W
LOCATION:314 A-8
DESCRIPTION:<a href="https://classroom.google.com/c/ODQ3MzM3MDM2OTcx">Google Classroom</a> 
END:VEVENT
BEGIN:VEVENT
UID:UZ_PLZ_20260613_1100_502799
DTSTAMP:20260613T110000
DTSTART:20260613T110000
DTEND:20260613T123000
SUMMARY:Przedmiot humanistyczny II w1 (W): dr inż. arch. Inna Abramiuk
CATEGORIES:W
LOCATION:105/106 A-8
DESCRIPTION:<a href="https://classroom.google.com/c/ODUwMTc0MTk1NDA5">Google Classroom</a> 
END:VEVENT
BEGIN:VEVENT
UID:UZ_PLZ_20260613_1245_502816
DTSTAMP:20260613T124500
DTSTART:20260613T124500
DTEND:20260613T141500
SUMMARY:Wykład monograficzny 1 (W): dr hab. inż. Jacek Korentz\, prof. UZ
CATEGORIES:W
LOCATION:215 A-8
END:VEVENT
BEGIN:VEVENT
UID:UZ_PLZ_20260613_1610_502800
DTSTAMP:20260613T161000
DTSTART:20260613T161000
DTEND:20260613T165500
SUMMARY:Renowacja budynków (L): dr hab. inż. Beata Nowogońska\, prof. UZ
CATEGORIES:L
LOCATION:314 A-8
END:VEVENT
BEGIN:VEVENT
UID:UZ_PLZ_20260614_1335_502796
DTSTAMP:20260614T133500
DTSTART:20260614T133500
DTEND:20260614T142000
SUMMARY:Zarządzanie przedsięwzięciami budowlanymi w1 (W): dr inż. Bartosz Michalak
CATEGORIES:W
LOCATION:105/106 A-8
END:VEVENT
BEGIN:VEVENT
UID:UZ_PLZ_20260614_1430_502792
DTSTAMP:20260614T143000
DTSTART:20260614T143000
DTEND:20260614T160000
SUMMARY:Język angielski - translatorium (Ć): mgr Wojciech Wieluński
CATEGORIES:Ć
LOCATION:16 A-5
END:VEVENT
BEGIN:VEVENT
UID:UZ_PLZ_20260614_1610_502801
DTSTAMP:20260614T161000
DTSTART:20260614T161000
DTEND:20260614T165500
SUMMARY:Zarządzanie przedsięwzięciami budowlanymi w1 (P): mgr inż. Weronika Malinowska
CATEGORIES:P
LOCATION:107 A-8
DESCRIPTION:<a href="https://classroom.google.com/c/ODQ2OTk0MDc4OTEz">Google Classroom</a> 
END:VEVENT
BEGIN:VEVENT
UID:UZ_PLZ_20260614_1705_502798
DTSTAMP:20260614T170500
DTSTART:20260614T170500
DTEND:20260614T175000
SUMMARY:Negocjacje i mediacje w budownictwie (Ć): dr inż. Artur Juszczyk
CATEGORIES:Ć
LOCATION:22 A-8
END:VEVENT
END:VCALENDAR
