BEGIN:VCALENDAR
TZID:Europe/Warsaw
X-WR-TIMEZONE:Europe/Warsaw
VERSION:2.0
PRODID:-//Uniwersytet Zielonogórski//NONSGML Plan zajęć v1.0//EN
NAME:Plan zajęć - semestr letni 2025/2026
X-WR-CALNAME:Plan zajęć - semestr letni 2025/2026
COLOR:green
CALSCALE:GREGORIAN
BEGIN:VEVENT
UID:UZ_PLZ_20260307_1245_502803
DTSTAMP:20260307T124500
DTSTART:20260307T124500
DTEND:20260307T141500
SUMMARY:Negocjacje i mediacje w budownictwie (W): dr inż. Patrycja Łychmus
CATEGORIES:W
LOCATION:314 A-8
X-ALT-DESC;FMTTYPE=text/html:<html><body><a href="https://classroom.google.com/c/ODQ3MzM3ODgwMDc1">Google Classroom</a> </body></html>
END:VEVENT
BEGIN:VEVENT
UID:UZ_PLZ_20260307_1430_502810
DTSTAMP:20260307T143000
DTSTART:20260307T143000
DTEND:20260307T160000
SUMMARY:Przedmiot humanistyczny II w1 (W): dr inż. arch. Inna Abramiuk
CATEGORIES:W
LOCATION:105/106 A-8
END:VEVENT
BEGIN:VEVENT
UID:UZ_PLZ_20260307_1800_502791
DTSTAMP:20260307T180000
DTSTART:20260307T180000
DTEND:20260307T193000
SUMMARY:Wykład monograficzny 1 (W): prof. dr hab. inż. Adam Wysokowski
CATEGORIES:W
LOCATION:12 A-8
X-ALT-DESC;FMTTYPE=text/html:<html><body><a href="https://classroom.google.com/c/ODU3OTk5MTEwNzUz">Google Classroom</a> </body></html>
END:VEVENT
BEGIN:VEVENT
UID:UZ_PLZ_20260307_1945_502825
DTSTAMP:20260307T194500
DTSTART:20260307T194500
DTEND:20260307T211500
SUMMARY:Zmęczenie i trwałość konstrukcji mostowych (W): prof. dr hab. inż. Adam Wysokowski
CATEGORIES:W
LOCATION:12 A-8
X-ALT-DESC;FMTTYPE=text/html:<html><body><a href="https://classroom.google.com/c/ODU3OTk4OTA0MzQz">Google Classroom</a> </body></html>
END:VEVENT
BEGIN:VEVENT
UID:UZ_PLZ_20260321_1245_502820
DTSTAMP:20260321T124500
DTSTART:20260321T124500
DTEND:20260321T141500
SUMMARY:Zarządzanie przedsięwzięciami budowlanymi w1 (P): mgr inż. Weronika Malinowska
CATEGORIES:P
LOCATION:22 A-8
X-ALT-DESC;FMTTYPE=text/html:<html><body><a href="https://classroom.google.com/c/ODQ2OTk0MDc4OTEz">Google Classroom</a> </body></html>
END:VEVENT
BEGIN:VEVENT
UID:UZ_PLZ_20260321_1430_502810
DTSTAMP:20260321T143000
DTSTART:20260321T143000
DTEND:20260321T160000
SUMMARY:Przedmiot humanistyczny II w1 (W): dr inż. arch. Inna Abramiuk
CATEGORIES:W
LOCATION:105/106 A-8
END:VEVENT
BEGIN:VEVENT
UID:UZ_PLZ_20260321_1800_502791
DTSTAMP:20260321T180000
DTSTART:20260321T180000
DTEND:20260321T193000
SUMMARY:Wykład monograficzny 1 (W): prof. dr hab. inż. Adam Wysokowski
CATEGORIES:W
LOCATION:12 A-8
X-ALT-DESC;FMTTYPE=text/html:<html><body><a href="https://classroom.google.com/c/ODU3OTk5MTEwNzUz">Google Classroom</a> </body></html>
END:VEVENT
BEGIN:VEVENT
UID:UZ_PLZ_20260321_1945_502825
DTSTAMP:20260321T194500
DTSTART:20260321T194500
DTEND:20260321T211500
SUMMARY:Zmęczenie i trwałość konstrukcji mostowych (W): prof. dr hab. inż. Adam Wysokowski
CATEGORIES:W
LOCATION:12 A-8
X-ALT-DESC;FMTTYPE=text/html:<html><body><a href="https://classroom.google.com/c/ODU3OTk4OTA0MzQz">Google Classroom</a> </body></html>
END:VEVENT
BEGIN:VEVENT
UID:UZ_PLZ_20260322_1245_502824
DTSTAMP:20260322T124500
DTSTART:20260322T124500
DTEND:20260322T141500
SUMMARY:Zarządzanie przedsięwzięciami budowlanymi w1 (W): dr inż. Bartosz Michalak
CATEGORIES:W
LOCATION:105/106 A-8
END:VEVENT
BEGIN:VEVENT
UID:UZ_PLZ_20260322_1430_502805
DTSTAMP:20260322T143000
DTSTART:20260322T143000
DTEND:20260322T160000
SUMMARY:Budownictwo drogowo-mostowe na świecie (W): prof. dr hab. inż. Adam Wysokowski
CATEGORIES:W
LOCATION:12 A-8
END:VEVENT
BEGIN:VEVENT
UID:UZ_PLZ_20260322_1615_502813
DTSTAMP:20260322T161500
DTSTART:20260322T161500
DTEND:20260322T174500
SUMMARY:Negocjacje i mediacje w budownictwie (Ć): dr inż. Artur Juszczyk
CATEGORIES:Ć
LOCATION:22 A-8
END:VEVENT
BEGIN:VEVENT
UID:UZ_PLZ_20260322_1800_502822
DTSTAMP:20260322T180000
DTSTART:20260322T180000
DTEND:20260322T210000
SUMMARY:Język angielski - translatorium (Ć): mgr Wojciech Wieluński
CATEGORIES:Ć
LOCATION:16 A-5
END:VEVENT
BEGIN:VEVENT
UID:UZ_PLZ_20260328_1245_502803
DTSTAMP:20260328T124500
DTSTART:20260328T124500
DTEND:20260328T141500
SUMMARY:Negocjacje i mediacje w budownictwie (W): dr inż. Patrycja Łychmus
CATEGORIES:W
LOCATION:314 A-8
X-ALT-DESC;FMTTYPE=text/html:<html><body><a href="https://classroom.google.com/c/ODQ3MzM3ODgwMDc1">Google Classroom</a> </body></html>
END:VEVENT
BEGIN:VEVENT
UID:UZ_PLZ_20260328_1430_502810
DTSTAMP:20260328T143000
DTSTART:20260328T143000
DTEND:20260328T160000
SUMMARY:Przedmiot humanistyczny II w1 (W): dr inż. arch. Inna Abramiuk
CATEGORIES:W
LOCATION:105/106 A-8
END:VEVENT
BEGIN:VEVENT
UID:UZ_PLZ_20260328_1800_502791
DTSTAMP:20260328T180000
DTSTART:20260328T180000
DTEND:20260328T193000
SUMMARY:Wykład monograficzny 1 (W): prof. dr hab. inż. Adam Wysokowski
CATEGORIES:W
LOCATION:12 A-8
X-ALT-DESC;FMTTYPE=text/html:<html><body><a href="https://classroom.google.com/c/ODU3OTk5MTEwNzUz">Google Classroom</a> </body></html>
END:VEVENT
BEGIN:VEVENT
UID:UZ_PLZ_20260328_1945_502825
DTSTAMP:20260328T194500
DTSTART:20260328T194500
DTEND:20260328T211500
SUMMARY:Zmęczenie i trwałość konstrukcji mostowych (W): prof. dr hab. inż. Adam Wysokowski
CATEGORIES:W
LOCATION:12 A-8
X-ALT-DESC;FMTTYPE=text/html:<html><body><a href="https://classroom.google.com/c/ODU3OTk4OTA0MzQz">Google Classroom</a> </body></html>
END:VEVENT
BEGIN:VEVENT
UID:UZ_PLZ_20260411_1245_502820
DTSTAMP:20260411T124500
DTSTART:20260411T124500
DTEND:20260411T141500
SUMMARY:Zarządzanie przedsięwzięciami budowlanymi w1 (P): mgr inż. Weronika Malinowska
CATEGORIES:P
LOCATION:22 A-8
X-ALT-DESC;FMTTYPE=text/html:<html><body><a href="https://classroom.google.com/c/ODQ2OTk0MDc4OTEz">Google Classroom</a> </body></html>
END:VEVENT
BEGIN:VEVENT
UID:UZ_PLZ_20260411_1430_502810
DTSTAMP:20260411T143000
DTSTART:20260411T143000
DTEND:20260411T160000
SUMMARY:Przedmiot humanistyczny II w1 (W): dr inż. arch. Inna Abramiuk
CATEGORIES:W
LOCATION:105/106 A-8
END:VEVENT
BEGIN:VEVENT
UID:UZ_PLZ_20260411_1800_502791
DTSTAMP:20260411T180000
DTSTART:20260411T180000
DTEND:20260411T193000
SUMMARY:Wykład monograficzny 1 (W): prof. dr hab. inż. Adam Wysokowski
CATEGORIES:W
LOCATION:12 A-8
X-ALT-DESC;FMTTYPE=text/html:<html><body><a href="https://classroom.google.com/c/ODU3OTk5MTEwNzUz">Google Classroom</a> </body></html>
END:VEVENT
BEGIN:VEVENT
UID:UZ_PLZ_20260411_1945_502825
DTSTAMP:20260411T194500
DTSTART:20260411T194500
DTEND:20260411T211500
SUMMARY:Zmęczenie i trwałość konstrukcji mostowych (W): prof. dr hab. inż. Adam Wysokowski
CATEGORIES:W
LOCATION:12 A-8
X-ALT-DESC;FMTTYPE=text/html:<html><body><a href="https://classroom.google.com/c/ODU3OTk4OTA0MzQz">Google Classroom</a> </body></html>
END:VEVENT
BEGIN:VEVENT
UID:UZ_PLZ_20260412_1245_502824
DTSTAMP:20260412T124500
DTSTART:20260412T124500
DTEND:20260412T141500
SUMMARY:Zarządzanie przedsięwzięciami budowlanymi w1 (W): dr inż. Bartosz Michalak
CATEGORIES:W
LOCATION:105/106 A-8
END:VEVENT
BEGIN:VEVENT
UID:UZ_PLZ_20260412_1430_502805
DTSTAMP:20260412T143000
DTSTART:20260412T143000
DTEND:20260412T160000
SUMMARY:Budownictwo drogowo-mostowe na świecie (W): prof. dr hab. inż. Adam Wysokowski
CATEGORIES:W
LOCATION:12 A-8
END:VEVENT
BEGIN:VEVENT
UID:UZ_PLZ_20260412_1615_502813
DTSTAMP:20260412T161500
DTSTART:20260412T161500
DTEND:20260412T174500
SUMMARY:Negocjacje i mediacje w budownictwie (Ć): dr inż. Artur Juszczyk
CATEGORIES:Ć
LOCATION:22 A-8
END:VEVENT
BEGIN:VEVENT
UID:UZ_PLZ_20260412_1800_502822
DTSTAMP:20260412T180000
DTSTART:20260412T180000
DTEND:20260412T210000
SUMMARY:Język angielski - translatorium (Ć): mgr Wojciech Wieluński
CATEGORIES:Ć
LOCATION:16 A-5
END:VEVENT
BEGIN:VEVENT
UID:UZ_PLZ_20260425_1245_502803
DTSTAMP:20260425T124500
DTSTART:20260425T124500
DTEND:20260425T141500
SUMMARY:Negocjacje i mediacje w budownictwie (W): dr inż. Patrycja Łychmus
CATEGORIES:W
LOCATION:314 A-8
X-ALT-DESC;FMTTYPE=text/html:<html><body><a href="https://classroom.google.com/c/ODQ3MzM3ODgwMDc1">Google Classroom</a> </body></html>
END:VEVENT
BEGIN:VEVENT
UID:UZ_PLZ_20260425_1430_502810
DTSTAMP:20260425T143000
DTSTART:20260425T143000
DTEND:20260425T160000
SUMMARY:Przedmiot humanistyczny II w1 (W): dr inż. arch. Inna Abramiuk
CATEGORIES:W
LOCATION:105/106 A-8
END:VEVENT
BEGIN:VEVENT
UID:UZ_PLZ_20260425_1800_502791
DTSTAMP:20260425T180000
DTSTART:20260425T180000
DTEND:20260425T193000
SUMMARY:Wykład monograficzny 1 (W): prof. dr hab. inż. Adam Wysokowski
CATEGORIES:W
LOCATION:12 A-8
X-ALT-DESC;FMTTYPE=text/html:<html><body><a href="https://classroom.google.com/c/ODU3OTk5MTEwNzUz">Google Classroom</a> </body></html>
END:VEVENT
BEGIN:VEVENT
UID:UZ_PLZ_20260425_1945_502825
DTSTAMP:20260425T194500
DTSTART:20260425T194500
DTEND:20260425T211500
SUMMARY:Zmęczenie i trwałość konstrukcji mostowych (W): prof. dr hab. inż. Adam Wysokowski
CATEGORIES:W
LOCATION:12 A-8
X-ALT-DESC;FMTTYPE=text/html:<html><body><a href="https://classroom.google.com/c/ODU3OTk4OTA0MzQz">Google Classroom</a> </body></html>
END:VEVENT
BEGIN:VEVENT
UID:UZ_PLZ_20260509_1245_502820
DTSTAMP:20260509T124500
DTSTART:20260509T124500
DTEND:20260509T141500
SUMMARY:Zarządzanie przedsięwzięciami budowlanymi w1 (P): mgr inż. Weronika Malinowska
CATEGORIES:P
LOCATION:22 A-8
X-ALT-DESC;FMTTYPE=text/html:<html><body><a href="https://classroom.google.com/c/ODQ2OTk0MDc4OTEz">Google Classroom</a> </body></html>
END:VEVENT
BEGIN:VEVENT
UID:UZ_PLZ_20260509_1430_502810
DTSTAMP:20260509T143000
DTSTART:20260509T143000
DTEND:20260509T160000
SUMMARY:Przedmiot humanistyczny II w1 (W): dr inż. arch. Inna Abramiuk
CATEGORIES:W
LOCATION:105/106 A-8
END:VEVENT
BEGIN:VEVENT
UID:UZ_PLZ_20260509_1800_502791
DTSTAMP:20260509T180000
DTSTART:20260509T180000
DTEND:20260509T193000
SUMMARY:Wykład monograficzny 1 (W): prof. dr hab. inż. Adam Wysokowski
CATEGORIES:W
LOCATION:12 A-8
X-ALT-DESC;FMTTYPE=text/html:<html><body><a href="https://classroom.google.com/c/ODU3OTk5MTEwNzUz">Google Classroom</a> </body></html>
END:VEVENT
BEGIN:VEVENT
UID:UZ_PLZ_20260509_1945_502825
DTSTAMP:20260509T194500
DTSTART:20260509T194500
DTEND:20260509T211500
SUMMARY:Zmęczenie i trwałość konstrukcji mostowych (W): prof. dr hab. inż. Adam Wysokowski
CATEGORIES:W
LOCATION:12 A-8
X-ALT-DESC;FMTTYPE=text/html:<html><body><a href="https://classroom.google.com/c/ODU3OTk4OTA0MzQz">Google Classroom</a> </body></html>
END:VEVENT
BEGIN:VEVENT
UID:UZ_PLZ_20260510_1245_502824
DTSTAMP:20260510T124500
DTSTART:20260510T124500
DTEND:20260510T141500
SUMMARY:Zarządzanie przedsięwzięciami budowlanymi w1 (W): dr inż. Bartosz Michalak
CATEGORIES:W
LOCATION:105/106 A-8
END:VEVENT
BEGIN:VEVENT
UID:UZ_PLZ_20260510_1430_502805
DTSTAMP:20260510T143000
DTSTART:20260510T143000
DTEND:20260510T160000
SUMMARY:Budownictwo drogowo-mostowe na świecie (W): prof. dr hab. inż. Adam Wysokowski
CATEGORIES:W
LOCATION:12 A-8
END:VEVENT
BEGIN:VEVENT
UID:UZ_PLZ_20260510_1615_502813
DTSTAMP:20260510T161500
DTSTART:20260510T161500
DTEND:20260510T174500
SUMMARY:Negocjacje i mediacje w budownictwie (Ć): dr inż. Artur Juszczyk
CATEGORIES:Ć
LOCATION:22 A-8
END:VEVENT
BEGIN:VEVENT
UID:UZ_PLZ_20260510_1800_502822
DTSTAMP:20260510T180000
DTSTART:20260510T180000
DTEND:20260510T210000
SUMMARY:Język angielski - translatorium (Ć): mgr Wojciech Wieluński
CATEGORIES:Ć
LOCATION:16 A-5
END:VEVENT
BEGIN:VEVENT
UID:UZ_PLZ_20260516_1245_502803
DTSTAMP:20260516T124500
DTSTART:20260516T124500
DTEND:20260516T141500
SUMMARY:Negocjacje i mediacje w budownictwie (W): dr inż. Patrycja Łychmus
CATEGORIES:W
LOCATION:314 A-8
X-ALT-DESC;FMTTYPE=text/html:<html><body><a href="https://classroom.google.com/c/ODQ3MzM3ODgwMDc1">Google Classroom</a> </body></html>
END:VEVENT
BEGIN:VEVENT
UID:UZ_PLZ_20260516_1430_502810
DTSTAMP:20260516T143000
DTSTART:20260516T143000
DTEND:20260516T160000
SUMMARY:Przedmiot humanistyczny II w1 (W): dr inż. arch. Inna Abramiuk
CATEGORIES:W
LOCATION:105/106 A-8
END:VEVENT
BEGIN:VEVENT
UID:UZ_PLZ_20260516_1800_502791
DTSTAMP:20260516T180000
DTSTART:20260516T180000
DTEND:20260516T193000
SUMMARY:Wykład monograficzny 1 (W): prof. dr hab. inż. Adam Wysokowski
CATEGORIES:W
LOCATION:12 A-8
X-ALT-DESC;FMTTYPE=text/html:<html><body><a href="https://classroom.google.com/c/ODU3OTk5MTEwNzUz">Google Classroom</a> </body></html>
END:VEVENT
BEGIN:VEVENT
UID:UZ_PLZ_20260516_1945_502825
DTSTAMP:20260516T194500
DTSTART:20260516T194500
DTEND:20260516T211500
SUMMARY:Zmęczenie i trwałość konstrukcji mostowych (W): prof. dr hab. inż. Adam Wysokowski
CATEGORIES:W
LOCATION:12 A-8
X-ALT-DESC;FMTTYPE=text/html:<html><body><a href="https://classroom.google.com/c/ODU3OTk4OTA0MzQz">Google Classroom</a> </body></html>
END:VEVENT
BEGIN:VEVENT
UID:UZ_PLZ_20260530_1245_502820
DTSTAMP:20260530T124500
DTSTART:20260530T124500
DTEND:20260530T141500
SUMMARY:Zarządzanie przedsięwzięciami budowlanymi w1 (P): mgr inż. Weronika Malinowska
CATEGORIES:P
LOCATION:22 A-8
X-ALT-DESC;FMTTYPE=text/html:<html><body><a href="https://classroom.google.com/c/ODQ2OTk0MDc4OTEz">Google Classroom</a> </body></html>
END:VEVENT
BEGIN:VEVENT
UID:UZ_PLZ_20260530_1430_502810
DTSTAMP:20260530T143000
DTSTART:20260530T143000
DTEND:20260530T160000
SUMMARY:Przedmiot humanistyczny II w1 (W): dr inż. arch. Inna Abramiuk
CATEGORIES:W
LOCATION:105/106 A-8
END:VEVENT
BEGIN:VEVENT
UID:UZ_PLZ_20260530_1800_502791
DTSTAMP:20260530T180000
DTSTART:20260530T180000
DTEND:20260530T193000
SUMMARY:Wykład monograficzny 1 (W): prof. dr hab. inż. Adam Wysokowski
CATEGORIES:W
LOCATION:12 A-8
X-ALT-DESC;FMTTYPE=text/html:<html><body><a href="https://classroom.google.com/c/ODU3OTk5MTEwNzUz">Google Classroom</a> </body></html>
END:VEVENT
BEGIN:VEVENT
UID:UZ_PLZ_20260530_1945_502825
DTSTAMP:20260530T194500
DTSTART:20260530T194500
DTEND:20260530T211500
SUMMARY:Zmęczenie i trwałość konstrukcji mostowych (W): prof. dr hab. inż. Adam Wysokowski
CATEGORIES:W
LOCATION:12 A-8
X-ALT-DESC;FMTTYPE=text/html:<html><body><a href="https://classroom.google.com/c/ODU3OTk4OTA0MzQz">Google Classroom</a> </body></html>
END:VEVENT
BEGIN:VEVENT
UID:UZ_PLZ_20260531_1245_502824
DTSTAMP:20260531T124500
DTSTART:20260531T124500
DTEND:20260531T141500
SUMMARY:Zarządzanie przedsięwzięciami budowlanymi w1 (W): dr inż. Bartosz Michalak
CATEGORIES:W
LOCATION:105/106 A-8
END:VEVENT
BEGIN:VEVENT
UID:UZ_PLZ_20260531_1430_502805
DTSTAMP:20260531T143000
DTSTART:20260531T143000
DTEND:20260531T160000
SUMMARY:Budownictwo drogowo-mostowe na świecie (W): prof. dr hab. inż. Adam Wysokowski
CATEGORIES:W
LOCATION:12 A-8
END:VEVENT
BEGIN:VEVENT
UID:UZ_PLZ_20260531_1615_502813
DTSTAMP:20260531T161500
DTSTART:20260531T161500
DTEND:20260531T174500
SUMMARY:Negocjacje i mediacje w budownictwie (Ć): dr inż. Artur Juszczyk
CATEGORIES:Ć
LOCATION:22 A-8
END:VEVENT
BEGIN:VEVENT
UID:UZ_PLZ_20260531_1800_502822
DTSTAMP:20260531T180000
DTSTART:20260531T180000
DTEND:20260531T210000
SUMMARY:Język angielski - translatorium (Ć): mgr Wojciech Wieluński
CATEGORIES:Ć
LOCATION:16 A-5
END:VEVENT
BEGIN:VEVENT
UID:UZ_PLZ_20260613_1240_502820
DTSTAMP:20260613T124000
DTSTART:20260613T124000
DTEND:20260613T132500
SUMMARY:Zarządzanie przedsięwzięciami budowlanymi w1 (P): mgr inż. Weronika Malinowska
CATEGORIES:P
LOCATION:22 A-8
X-ALT-DESC;FMTTYPE=text/html:<html><body><a href="https://classroom.google.com/c/ODQ2OTk0MDc4OTEz">Google Classroom</a> </body></html>
END:VEVENT
BEGIN:VEVENT
UID:UZ_PLZ_20260613_1335_502803
DTSTAMP:20260613T133500
DTSTART:20260613T133500
DTEND:20260613T142000
SUMMARY:Negocjacje i mediacje w budownictwie (W): dr inż. Patrycja Łychmus
CATEGORIES:W
LOCATION:314 A-8
X-ALT-DESC;FMTTYPE=text/html:<html><body><a href="https://classroom.google.com/c/ODQ3MzM3ODgwMDc1">Google Classroom</a> </body></html>
END:VEVENT
BEGIN:VEVENT
UID:UZ_PLZ_20260613_1430_502810
DTSTAMP:20260613T143000
DTSTART:20260613T143000
DTEND:20260613T160000
SUMMARY:Przedmiot humanistyczny II w1 (W): dr inż. arch. Inna Abramiuk
CATEGORIES:W
LOCATION:105/106 A-8
END:VEVENT
BEGIN:VEVENT
UID:UZ_PLZ_20260613_1800_502791
DTSTAMP:20260613T180000
DTSTART:20260613T180000
DTEND:20260613T193000
SUMMARY:Wykład monograficzny 1 (W): prof. dr hab. inż. Adam Wysokowski
CATEGORIES:W
LOCATION:12 A-8
X-ALT-DESC;FMTTYPE=text/html:<html><body><a href="https://classroom.google.com/c/ODU3OTk5MTEwNzUz">Google Classroom</a> </body></html>
END:VEVENT
BEGIN:VEVENT
UID:UZ_PLZ_20260613_1945_502825
DTSTAMP:20260613T194500
DTSTART:20260613T194500
DTEND:20260613T211500
SUMMARY:Zmęczenie i trwałość konstrukcji mostowych (W): prof. dr hab. inż. Adam Wysokowski
CATEGORIES:W
LOCATION:12 A-8
X-ALT-DESC;FMTTYPE=text/html:<html><body><a href="https://classroom.google.com/c/ODU3OTk4OTA0MzQz">Google Classroom</a> </body></html>
END:VEVENT
BEGIN:VEVENT
UID:UZ_PLZ_20260614_0815_502805
DTSTAMP:20260614T081500
DTSTART:20260614T081500
DTEND:20260614T090000
SUMMARY:Budownictwo drogowo-mostowe na świecie (W): prof. dr hab. inż. Adam Wysokowski
CATEGORIES:W
LOCATION:12 A-8
END:VEVENT
BEGIN:VEVENT
UID:UZ_PLZ_20260614_0915_502822
DTSTAMP:20260614T091500
DTSTART:20260614T091500
DTEND:20260614T104500
SUMMARY:Język angielski - translatorium (Ć): mgr Wojciech Wieluński
CATEGORIES:Ć
LOCATION:16 A-5
END:VEVENT
BEGIN:VEVENT
UID:UZ_PLZ_20260614_1240_502824
DTSTAMP:20260614T124000
DTSTART:20260614T124000
DTEND:20260614T132500
SUMMARY:Zarządzanie przedsięwzięciami budowlanymi w1 (W): dr inż. Bartosz Michalak
CATEGORIES:W
LOCATION:105/106 A-8
END:VEVENT
BEGIN:VEVENT
UID:UZ_PLZ_20260614_1335_502813
DTSTAMP:20260614T133500
DTSTART:20260614T133500
DTEND:20260614T142000
SUMMARY:Negocjacje i mediacje w budownictwie (Ć): dr inż. Artur Juszczyk
CATEGORIES:Ć
LOCATION:22 A-8
END:VEVENT
END:VCALENDAR
