BEGIN:VCALENDAR
TZID:Europe/Warsaw
X-WR-TIMEZONE:Europe/Warsaw
VERSION:2.0
PRODID:-//Uniwersytet Zielonogórski//NONSGML Plan zajęć v1.0//EN
NAME:Plan zajęć - semestr letni 2025/2026
X-WR-CALNAME:Plan zajęć - semestr letni 2025/2026
COLOR:green
CALSCALE:GREGORIAN
BEGIN:VEVENT
UID:UZ_PLZ_20260427_1130_499359
DTSTAMP:20260427T113000
DTSTART:20260427T113000
DTEND:20260427T130000
SUMMARY:Foreign language - Russian II/Język obcy specjalistyczny - język rosyjski 2 (Ć): mgr Genowefa Rutkowska
CATEGORIES:Ć
LOCATION:101 A-20
END:VEVENT
BEGIN:VEVENT
UID:UZ_PLZ_20260428_1130_499354
DTSTAMP:20260428T113000
DTSTART:20260428T113000
DTEND:20260428T130000
SUMMARY:Foreign language - German II/Język obcy specjalistyczny - język niemiecki (Ć): mgr Liliana Sadowska
CATEGORIES:Ć
LOCATION:G A-20
END:VEVENT
BEGIN:VEVENT
UID:UZ_PLZ_20260504_1130_499359
DTSTAMP:20260504T113000
DTSTART:20260504T113000
DTEND:20260504T130000
SUMMARY:Foreign language - Russian II/Język obcy specjalistyczny - język rosyjski 2 (Ć): mgr Genowefa Rutkowska
CATEGORIES:Ć
LOCATION:101 A-20
END:VEVENT
BEGIN:VEVENT
UID:UZ_PLZ_20260505_1130_499354
DTSTAMP:20260505T113000
DTSTART:20260505T113000
DTEND:20260505T130000
SUMMARY:Foreign language - German II/Język obcy specjalistyczny - język niemiecki (Ć): mgr Liliana Sadowska
CATEGORIES:Ć
LOCATION:G A-20
END:VEVENT
BEGIN:VEVENT
UID:UZ_PLZ_20260511_1130_499359
DTSTAMP:20260511T113000
DTSTART:20260511T113000
DTEND:20260511T130000
SUMMARY:Foreign language - Russian II/Język obcy specjalistyczny - język rosyjski 2 (Ć): mgr Genowefa Rutkowska
CATEGORIES:Ć
LOCATION:101 A-20
END:VEVENT
BEGIN:VEVENT
UID:UZ_PLZ_20260512_1130_499354
DTSTAMP:20260512T113000
DTSTART:20260512T113000
DTEND:20260512T130000
SUMMARY:Foreign language - German II/Język obcy specjalistyczny - język niemiecki (Ć): mgr Liliana Sadowska
CATEGORIES:Ć
LOCATION:G A-20
END:VEVENT
BEGIN:VEVENT
UID:UZ_PLZ_20260518_1130_499359
DTSTAMP:20260518T113000
DTSTART:20260518T113000
DTEND:20260518T130000
SUMMARY:Foreign language - Russian II/Język obcy specjalistyczny - język rosyjski 2 (Ć): mgr Genowefa Rutkowska
CATEGORIES:Ć
LOCATION:101 A-20
END:VEVENT
BEGIN:VEVENT
UID:UZ_PLZ_20260519_1130_499354
DTSTAMP:20260519T113000
DTSTART:20260519T113000
DTEND:20260519T130000
SUMMARY:Foreign language - German II/Język obcy specjalistyczny - język niemiecki (Ć): mgr Liliana Sadowska
CATEGORIES:Ć
LOCATION:G A-20
END:VEVENT
BEGIN:VEVENT
UID:UZ_PLZ_20260525_1130_499359
DTSTAMP:20260525T113000
DTSTART:20260525T113000
DTEND:20260525T130000
SUMMARY:Foreign language - Russian II/Język obcy specjalistyczny - język rosyjski 2 (Ć): mgr Genowefa Rutkowska
CATEGORIES:Ć
LOCATION:101 A-20
END:VEVENT
BEGIN:VEVENT
UID:UZ_PLZ_20260526_1130_499354
DTSTAMP:20260526T113000
DTSTART:20260526T113000
DTEND:20260526T130000
SUMMARY:Foreign language - German II/Język obcy specjalistyczny - język niemiecki (Ć): mgr Liliana Sadowska
CATEGORIES:Ć
LOCATION:G A-20
END:VEVENT
BEGIN:VEVENT
UID:UZ_PLZ_20260601_1130_499359
DTSTAMP:20260601T113000
DTSTART:20260601T113000
DTEND:20260601T130000
SUMMARY:Foreign language - Russian II/Język obcy specjalistyczny - język rosyjski 2 (Ć): mgr Genowefa Rutkowska
CATEGORIES:Ć
LOCATION:101 A-20
END:VEVENT
BEGIN:VEVENT
UID:UZ_PLZ_20260602_1130_499354
DTSTAMP:20260602T113000
DTSTART:20260602T113000
DTEND:20260602T130000
SUMMARY:Foreign language - German II/Język obcy specjalistyczny - język niemiecki (Ć): mgr Liliana Sadowska
CATEGORIES:Ć
LOCATION:G A-20
END:VEVENT
BEGIN:VEVENT
UID:UZ_PLZ_20260608_1130_499359
DTSTAMP:20260608T113000
DTSTART:20260608T113000
DTEND:20260608T130000
SUMMARY:Foreign language - Russian II/Język obcy specjalistyczny - język rosyjski 2 (Ć): mgr Genowefa Rutkowska
CATEGORIES:Ć
LOCATION:101 A-20
END:VEVENT
BEGIN:VEVENT
UID:UZ_PLZ_20260609_1130_499354
DTSTAMP:20260609T113000
DTSTART:20260609T113000
DTEND:20260609T130000
SUMMARY:Foreign language - German II/Język obcy specjalistyczny - język niemiecki (Ć): mgr Liliana Sadowska
CATEGORIES:Ć
LOCATION:G A-20
END:VEVENT
BEGIN:VEVENT
UID:UZ_PLZ_20260615_1130_499359
DTSTAMP:20260615T113000
DTSTART:20260615T113000
DTEND:20260615T130000
SUMMARY:Foreign language - Russian II/Język obcy specjalistyczny - język rosyjski 2 (Ć): mgr Genowefa Rutkowska
CATEGORIES:Ć
LOCATION:101 A-20
END:VEVENT
BEGIN:VEVENT
UID:UZ_PLZ_20260616_1130_499354
DTSTAMP:20260616T113000
DTSTART:20260616T113000
DTEND:20260616T130000
SUMMARY:Foreign language - German II/Język obcy specjalistyczny - język niemiecki (Ć): mgr Liliana Sadowska
CATEGORIES:Ć
LOCATION:G A-20
END:VEVENT
END:VCALENDAR
