BEGIN:VCALENDAR
TZID:Europe/Warsaw
X-WR-TIMEZONE:Europe/Warsaw
VERSION:2.0
PRODID:-//Uniwersytet Zielonogórski//NONSGML Plan zajęć v1.0//EN
NAME:Plan zajęć - semestr letni 2025/2026
X-WR-CALNAME:Plan zajęć - semestr letni 2025/2026
COLOR:green
CALSCALE:GREGORIAN
BEGIN:VEVENT
UID:UZ_PLZ_20260425_0915_495742
DTSTAMP:20260425T091500
DTSTART:20260425T091500
DTEND:20260425T104500
SUMMARY:Systemy sterowania przesyłem i rozdziałem energii elektrycznej (W): prof. dr hab. inż. Robert Smoleński
CATEGORIES:W
LOCATION:109 A-2
END:VEVENT
BEGIN:VEVENT
UID:UZ_PLZ_20260425_1100_495724
DTSTAMP:20260425T110000
DTSTART:20260425T110000
DTEND:20260425T123000
SUMMARY:Przemiany energetyczne i alternatywne źródła zasilania (L): dr inż. Sylwia Hajdasz (PG: A)
CATEGORIES:L
LOCATION:103 A-37
ATTACH:https://classroom.google.com/c/ODQ2NTY3NTQ3NzMx
END:VEVENT
BEGIN:VEVENT
UID:UZ_PLZ_20260425_1100_495798
DTSTAMP:20260425T110000
DTSTART:20260425T110000
DTEND:20260425T123000
SUMMARY:Seminarium dyplomowe III (S): prof. dr hab. inż. Robert Smoleński (PG: B)
CATEGORIES:S
LOCATION:109 A-2
END:VEVENT
BEGIN:VEVENT
UID:UZ_PLZ_20260425_1245_495751
DTSTAMP:20260425T124500
DTSTART:20260425T124500
DTEND:20260425T141500
SUMMARY:Przemiany energetyczne i alternatywne źródła zasilania (L): dr inż. Sylwia Hajdasz (PG: B)
CATEGORIES:L
LOCATION:103 A-37
ATTACH:https://classroom.google.com/c/ODQ2NTY4MDkwMjcy
END:VEVENT
BEGIN:VEVENT
UID:UZ_PLZ_20260425_1245_495822
DTSTAMP:20260425T124500
DTSTART:20260425T124500
DTEND:20260425T141500
SUMMARY:Seminarium dyplomowe III (S): prof. dr hab. inż. Robert Smoleński (PG: A)
CATEGORIES:S
LOCATION:109 A-2
END:VEVENT
BEGIN:VEVENT
UID:UZ_PLZ_20260425_1430_495766
DTSTAMP:20260425T143000
DTSTART:20260425T143000
DTEND:20260425T160000
SUMMARY:Auditing energetyczny (W): dr inż. Piotr Leżyński
CATEGORIES:W
LOCATION:109 A-2
ATTACH:https://classroom.google.com/c/ODUwNDA0NzE1Njc5
END:VEVENT
BEGIN:VEVENT
UID:UZ_PLZ_20260425_1615_495791
DTSTAMP:20260425T161500
DTSTART:20260425T161500
DTEND:20260425T174500
SUMMARY:Instalacje i urządzenia przemysłowe (W): dr hab. inż. Jacek Kaniewski\, prof. UZ
CATEGORIES:W
LOCATION:109 A-2
ATTACH:https://classroom.google.com/c/ODQ3MTExNjcyOTYy
END:VEVENT
BEGIN:VEVENT
UID:UZ_PLZ_20260425_1800_506787
DTSTAMP:20260425T180000
DTSTART:20260425T180000
DTEND:20260425T193000
SUMMARY:Seminarium dyplomowe III (S): prof. dr hab. inż. Robert Smoleński (PG: C)
CATEGORIES:S
LOCATION:109 A-2
END:VEVENT
BEGIN:VEVENT
UID:UZ_PLZ_20260425_1800_495780
DTSTAMP:20260425T180000
DTSTART:20260425T180000
DTEND:20260425T193000
SUMMARY:Systemy sterowania przesyłem i rozdziałem energii elektrycznej (L): dr hab. inż. Marcin Jarnut\, prof. UZ (PG: A)
CATEGORIES:L
LOCATION:110 A-37
ATTACH:https://classroom.google.com/c/ODUwMjYzMDI5MTg0
END:VEVENT
BEGIN:VEVENT
UID:UZ_PLZ_20260425_1935_495743
DTSTAMP:20260425T193500
DTSTART:20260425T193500
DTEND:20260425T210500
SUMMARY:Systemy sterowania przesyłem i rozdziałem energii elektrycznej (L): dr hab. inż. Marcin Jarnut\, prof. UZ (PG: B)
CATEGORIES:L
LOCATION:110 A-37
ATTACH:https://classroom.google.com/c/Nzk2NDQyMTM2NjIz
END:VEVENT
BEGIN:VEVENT
UID:UZ_PLZ_20260426_0740_495805
DTSTAMP:20260426T074000
DTSTART:20260426T074000
DTEND:20260426T090000
SUMMARY:Instalacje i urządzenia przemysłowe (L): dr inż. Piotr Leżyński (PG: A)
CATEGORIES:L
LOCATION:102 A-37\; 120 A-37
ATTACH:https://classroom.google.com/c/Nzk2NDY0MTU4Njg3
END:VEVENT
BEGIN:VEVENT
UID:UZ_PLZ_20260426_0915_495814
DTSTAMP:20260426T091500
DTSTART:20260426T091500
DTEND:20260426T103500
SUMMARY:Instalacje i urządzenia przemysłowe (L): dr inż. Piotr Leżyński (PG: B)
CATEGORIES:L
LOCATION:102 A-37\; 120 A-37
ATTACH:https://classroom.google.com/c/Nzk2NDY0MTU4Njg3
END:VEVENT
BEGIN:VEVENT
UID:UZ_PLZ_20260426_0915_495769
DTSTAMP:20260426T091500
DTSTART:20260426T091500
DTEND:20260426T103500
SUMMARY:Instalacje i urządzenia przemysłowe (P): dr hab. inż. Jacek Kaniewski\, prof. UZ (PG: A)
CATEGORIES:P
LOCATION:119 A-37
ATTACH:https://classroom.google.com/c/ODQ3MTEyODAxMTM4
END:VEVENT
BEGIN:VEVENT
UID:UZ_PLZ_20260426_1100_495820
DTSTAMP:20260426T110000
DTSTART:20260426T110000
DTEND:20260426T123000
SUMMARY:Przemiany energetyczne i alternatywne źródła zasilania (W): dr hab. inż. Adam Kempski\, prof. UZ
CATEGORIES:W
LOCATION:108 A-2
ATTACH:https://classroom.google.com/c/Nzk2OTM0Nzg5NDE1
END:VEVENT
BEGIN:VEVENT
UID:UZ_PLZ_20260426_1245_495712
DTSTAMP:20260426T124500
DTSTART:20260426T124500
DTEND:20260426T141500
SUMMARY:Auditing energetyczny (L): dr inż. Piotr Leżyński (PG: A)
CATEGORIES:L
LOCATION:102 A-37
ATTACH:https://classroom.google.com/c/ODUwNDA0NzE1Njc5
END:VEVENT
BEGIN:VEVENT
UID:UZ_PLZ_20260426_1430_495785
DTSTAMP:20260426T143000
DTSTART:20260426T143000
DTEND:20260426T160000
SUMMARY:Auditing energetyczny (L): dr inż. Piotr Leżyński (PG: B)
CATEGORIES:L
LOCATION:102 A-37
ATTACH:https://classroom.google.com/c/ODUwNDA0NzE1Njc5
END:VEVENT
BEGIN:VEVENT
UID:UZ_PLZ_20260509_0915_495742
DTSTAMP:20260509T091500
DTSTART:20260509T091500
DTEND:20260509T104500
SUMMARY:Systemy sterowania przesyłem i rozdziałem energii elektrycznej (W): prof. dr hab. inż. Robert Smoleński
CATEGORIES:W
LOCATION:109 A-2
END:VEVENT
BEGIN:VEVENT
UID:UZ_PLZ_20260509_1100_495724
DTSTAMP:20260509T110000
DTSTART:20260509T110000
DTEND:20260509T123000
SUMMARY:Przemiany energetyczne i alternatywne źródła zasilania (L): dr inż. Sylwia Hajdasz (PG: A)
CATEGORIES:L
LOCATION:103 A-37
ATTACH:https://classroom.google.com/c/ODQ2NTY3NTQ3NzMx
END:VEVENT
BEGIN:VEVENT
UID:UZ_PLZ_20260509_1100_495798
DTSTAMP:20260509T110000
DTSTART:20260509T110000
DTEND:20260509T123000
SUMMARY:Seminarium dyplomowe III (S): prof. dr hab. inż. Robert Smoleński (PG: B)
CATEGORIES:S
LOCATION:109 A-2
END:VEVENT
BEGIN:VEVENT
UID:UZ_PLZ_20260509_1245_495751
DTSTAMP:20260509T124500
DTSTART:20260509T124500
DTEND:20260509T141500
SUMMARY:Przemiany energetyczne i alternatywne źródła zasilania (L): dr inż. Sylwia Hajdasz (PG: B)
CATEGORIES:L
LOCATION:103 A-37
ATTACH:https://classroom.google.com/c/ODQ2NTY4MDkwMjcy
END:VEVENT
BEGIN:VEVENT
UID:UZ_PLZ_20260509_1245_495822
DTSTAMP:20260509T124500
DTSTART:20260509T124500
DTEND:20260509T141500
SUMMARY:Seminarium dyplomowe III (S): prof. dr hab. inż. Robert Smoleński (PG: A)
CATEGORIES:S
LOCATION:109 A-2
END:VEVENT
BEGIN:VEVENT
UID:UZ_PLZ_20260509_1430_495766
DTSTAMP:20260509T143000
DTSTART:20260509T143000
DTEND:20260509T160000
SUMMARY:Auditing energetyczny (W): dr inż. Piotr Leżyński
CATEGORIES:W
LOCATION:109 A-2
ATTACH:https://classroom.google.com/c/ODUwNDA0NzE1Njc5
END:VEVENT
BEGIN:VEVENT
UID:UZ_PLZ_20260509_1615_495791
DTSTAMP:20260509T161500
DTSTART:20260509T161500
DTEND:20260509T174500
SUMMARY:Instalacje i urządzenia przemysłowe (W): dr hab. inż. Jacek Kaniewski\, prof. UZ
CATEGORIES:W
LOCATION:109 A-2
ATTACH:https://classroom.google.com/c/ODQ3MTExNjcyOTYy
END:VEVENT
BEGIN:VEVENT
UID:UZ_PLZ_20260509_1800_506787
DTSTAMP:20260509T180000
DTSTART:20260509T180000
DTEND:20260509T193000
SUMMARY:Seminarium dyplomowe III (S): prof. dr hab. inż. Robert Smoleński (PG: C)
CATEGORIES:S
LOCATION:109 A-2
END:VEVENT
BEGIN:VEVENT
UID:UZ_PLZ_20260509_1800_495780
DTSTAMP:20260509T180000
DTSTART:20260509T180000
DTEND:20260509T193000
SUMMARY:Systemy sterowania przesyłem i rozdziałem energii elektrycznej (L): dr hab. inż. Marcin Jarnut\, prof. UZ (PG: A)
CATEGORIES:L
LOCATION:110 A-37
ATTACH:https://classroom.google.com/c/ODUwMjYzMDI5MTg0
END:VEVENT
BEGIN:VEVENT
UID:UZ_PLZ_20260509_1935_495743
DTSTAMP:20260509T193500
DTSTART:20260509T193500
DTEND:20260509T210500
SUMMARY:Systemy sterowania przesyłem i rozdziałem energii elektrycznej (L): dr hab. inż. Marcin Jarnut\, prof. UZ (PG: B)
CATEGORIES:L
LOCATION:110 A-37
ATTACH:https://classroom.google.com/c/Nzk2NDQyMTM2NjIz
END:VEVENT
BEGIN:VEVENT
UID:UZ_PLZ_20260510_0910_495770
DTSTAMP:20260510T091000
DTSTART:20260510T091000
DTEND:20260510T105000
SUMMARY:Instalacje i urządzenia przemysłowe (P): dr hab. inż. Jacek Kaniewski\, prof. UZ (PG: B)
CATEGORIES:P
LOCATION:119 A-37
ATTACH:https://classroom.google.com/c/ODQ3MDg5NTk0MjEw
END:VEVENT
BEGIN:VEVENT
UID:UZ_PLZ_20260510_1100_495820
DTSTAMP:20260510T110000
DTSTART:20260510T110000
DTEND:20260510T123000
SUMMARY:Przemiany energetyczne i alternatywne źródła zasilania (W): dr hab. inż. Adam Kempski\, prof. UZ
CATEGORIES:W
LOCATION:108 A-2
ATTACH:https://classroom.google.com/c/Nzk2OTM0Nzg5NDE1
END:VEVENT
BEGIN:VEVENT
UID:UZ_PLZ_20260510_1245_495804
DTSTAMP:20260510T124500
DTSTART:20260510T124500
DTEND:20260510T141500
SUMMARY:Auditing energetyczny (P): dr inż. Piotr Leżyński (PG: A)
CATEGORIES:P
LOCATION:102 A-37
ATTACH:https://classroom.google.com/c/ODUwNDA0NzE1Njc5
END:VEVENT
BEGIN:VEVENT
UID:UZ_PLZ_20260510_1430_495767
DTSTAMP:20260510T143000
DTSTART:20260510T143000
DTEND:20260510T160000
SUMMARY:Auditing energetyczny (P): dr inż. Piotr Leżyński (PG: B)
CATEGORIES:P
LOCATION:102 A-37
ATTACH:https://classroom.google.com/c/ODUwNDA0NzE1Njc5
END:VEVENT
BEGIN:VEVENT
UID:UZ_PLZ_20260516_0915_495742
DTSTAMP:20260516T091500
DTSTART:20260516T091500
DTEND:20260516T104500
SUMMARY:Systemy sterowania przesyłem i rozdziałem energii elektrycznej (W): prof. dr hab. inż. Robert Smoleński
CATEGORIES:W
LOCATION:109 A-2
END:VEVENT
BEGIN:VEVENT
UID:UZ_PLZ_20260516_1100_495724
DTSTAMP:20260516T110000
DTSTART:20260516T110000
DTEND:20260516T123000
SUMMARY:Przemiany energetyczne i alternatywne źródła zasilania (L): dr inż. Sylwia Hajdasz (PG: A)
CATEGORIES:L
LOCATION:103 A-37
ATTACH:https://classroom.google.com/c/ODQ2NTY3NTQ3NzMx
END:VEVENT
BEGIN:VEVENT
UID:UZ_PLZ_20260516_1100_495798
DTSTAMP:20260516T110000
DTSTART:20260516T110000
DTEND:20260516T123000
SUMMARY:Seminarium dyplomowe III (S): prof. dr hab. inż. Robert Smoleński (PG: B)
CATEGORIES:S
LOCATION:109 A-2
END:VEVENT
BEGIN:VEVENT
UID:UZ_PLZ_20260516_1245_495751
DTSTAMP:20260516T124500
DTSTART:20260516T124500
DTEND:20260516T141500
SUMMARY:Przemiany energetyczne i alternatywne źródła zasilania (L): dr inż. Sylwia Hajdasz (PG: B)
CATEGORIES:L
LOCATION:103 A-37
ATTACH:https://classroom.google.com/c/ODQ2NTY4MDkwMjcy
END:VEVENT
BEGIN:VEVENT
UID:UZ_PLZ_20260516_1245_495822
DTSTAMP:20260516T124500
DTSTART:20260516T124500
DTEND:20260516T141500
SUMMARY:Seminarium dyplomowe III (S): prof. dr hab. inż. Robert Smoleński (PG: A)
CATEGORIES:S
LOCATION:109 A-2
END:VEVENT
BEGIN:VEVENT
UID:UZ_PLZ_20260516_1430_495766
DTSTAMP:20260516T143000
DTSTART:20260516T143000
DTEND:20260516T160000
SUMMARY:Auditing energetyczny (W): dr inż. Piotr Leżyński
CATEGORIES:W
LOCATION:109 A-2
ATTACH:https://classroom.google.com/c/ODUwNDA0NzE1Njc5
END:VEVENT
BEGIN:VEVENT
UID:UZ_PLZ_20260516_1615_495791
DTSTAMP:20260516T161500
DTSTART:20260516T161500
DTEND:20260516T174500
SUMMARY:Instalacje i urządzenia przemysłowe (W): dr hab. inż. Jacek Kaniewski\, prof. UZ
CATEGORIES:W
LOCATION:109 A-2
ATTACH:https://classroom.google.com/c/ODQ3MTExNjcyOTYy
END:VEVENT
BEGIN:VEVENT
UID:UZ_PLZ_20260516_1800_506787
DTSTAMP:20260516T180000
DTSTART:20260516T180000
DTEND:20260516T193000
SUMMARY:Seminarium dyplomowe III (S): prof. dr hab. inż. Robert Smoleński (PG: C)
CATEGORIES:S
LOCATION:109 A-2
END:VEVENT
BEGIN:VEVENT
UID:UZ_PLZ_20260516_1800_495780
DTSTAMP:20260516T180000
DTSTART:20260516T180000
DTEND:20260516T193000
SUMMARY:Systemy sterowania przesyłem i rozdziałem energii elektrycznej (L): dr hab. inż. Marcin Jarnut\, prof. UZ (PG: A)
CATEGORIES:L
LOCATION:110 A-37
ATTACH:https://classroom.google.com/c/ODUwMjYzMDI5MTg0
END:VEVENT
BEGIN:VEVENT
UID:UZ_PLZ_20260516_1935_495743
DTSTAMP:20260516T193500
DTSTART:20260516T193500
DTEND:20260516T210500
SUMMARY:Systemy sterowania przesyłem i rozdziałem energii elektrycznej (L): dr hab. inż. Marcin Jarnut\, prof. UZ (PG: B)
CATEGORIES:L
LOCATION:110 A-37
ATTACH:https://classroom.google.com/c/Nzk2NDQyMTM2NjIz
END:VEVENT
BEGIN:VEVENT
UID:UZ_PLZ_20260517_0740_495805
DTSTAMP:20260517T074000
DTSTART:20260517T074000
DTEND:20260517T090000
SUMMARY:Instalacje i urządzenia przemysłowe (L): dr inż. Piotr Leżyński (PG: A)
CATEGORIES:L
LOCATION:102 A-37\; 120 A-37
ATTACH:https://classroom.google.com/c/Nzk2NDY0MTU4Njg3
END:VEVENT
BEGIN:VEVENT
UID:UZ_PLZ_20260517_0915_495814
DTSTAMP:20260517T091500
DTSTART:20260517T091500
DTEND:20260517T103500
SUMMARY:Instalacje i urządzenia przemysłowe (L): dr inż. Piotr Leżyński (PG: B)
CATEGORIES:L
LOCATION:102 A-37\; 120 A-37
ATTACH:https://classroom.google.com/c/Nzk2NDY0MTU4Njg3
END:VEVENT
BEGIN:VEVENT
UID:UZ_PLZ_20260517_0915_495769
DTSTAMP:20260517T091500
DTSTART:20260517T091500
DTEND:20260517T103500
SUMMARY:Instalacje i urządzenia przemysłowe (P): dr hab. inż. Jacek Kaniewski\, prof. UZ (PG: A)
CATEGORIES:P
LOCATION:119 A-37
ATTACH:https://classroom.google.com/c/ODQ3MTEyODAxMTM4
END:VEVENT
BEGIN:VEVENT
UID:UZ_PLZ_20260517_1100_495820
DTSTAMP:20260517T110000
DTSTART:20260517T110000
DTEND:20260517T123000
SUMMARY:Przemiany energetyczne i alternatywne źródła zasilania (W): dr hab. inż. Adam Kempski\, prof. UZ
CATEGORIES:W
LOCATION:108 A-2
ATTACH:https://classroom.google.com/c/Nzk2OTM0Nzg5NDE1
END:VEVENT
BEGIN:VEVENT
UID:UZ_PLZ_20260517_1245_495712
DTSTAMP:20260517T124500
DTSTART:20260517T124500
DTEND:20260517T141500
SUMMARY:Auditing energetyczny (L): dr inż. Piotr Leżyński (PG: A)
CATEGORIES:L
LOCATION:102 A-37
ATTACH:https://classroom.google.com/c/ODUwNDA0NzE1Njc5
END:VEVENT
BEGIN:VEVENT
UID:UZ_PLZ_20260517_1430_495785
DTSTAMP:20260517T143000
DTSTART:20260517T143000
DTEND:20260517T160000
SUMMARY:Auditing energetyczny (L): dr inż. Piotr Leżyński (PG: B)
CATEGORIES:L
LOCATION:102 A-37
ATTACH:https://classroom.google.com/c/ODUwNDA0NzE1Njc5
END:VEVENT
BEGIN:VEVENT
UID:UZ_PLZ_20260530_0915_495742
DTSTAMP:20260530T091500
DTSTART:20260530T091500
DTEND:20260530T104500
SUMMARY:Systemy sterowania przesyłem i rozdziałem energii elektrycznej (W): prof. dr hab. inż. Robert Smoleński
CATEGORIES:W
LOCATION:109 A-2
END:VEVENT
BEGIN:VEVENT
UID:UZ_PLZ_20260530_1100_495724
DTSTAMP:20260530T110000
DTSTART:20260530T110000
DTEND:20260530T123000
SUMMARY:Przemiany energetyczne i alternatywne źródła zasilania (L): dr inż. Sylwia Hajdasz (PG: A)
CATEGORIES:L
LOCATION:103 A-37
ATTACH:https://classroom.google.com/c/ODQ2NTY3NTQ3NzMx
END:VEVENT
BEGIN:VEVENT
UID:UZ_PLZ_20260530_1100_495798
DTSTAMP:20260530T110000
DTSTART:20260530T110000
DTEND:20260530T123000
SUMMARY:Seminarium dyplomowe III (S): prof. dr hab. inż. Robert Smoleński (PG: B)
CATEGORIES:S
LOCATION:109 A-2
END:VEVENT
BEGIN:VEVENT
UID:UZ_PLZ_20260530_1245_495751
DTSTAMP:20260530T124500
DTSTART:20260530T124500
DTEND:20260530T141500
SUMMARY:Przemiany energetyczne i alternatywne źródła zasilania (L): dr inż. Sylwia Hajdasz (PG: B)
CATEGORIES:L
LOCATION:103 A-37
ATTACH:https://classroom.google.com/c/ODQ2NTY4MDkwMjcy
END:VEVENT
BEGIN:VEVENT
UID:UZ_PLZ_20260530_1245_495822
DTSTAMP:20260530T124500
DTSTART:20260530T124500
DTEND:20260530T141500
SUMMARY:Seminarium dyplomowe III (S): prof. dr hab. inż. Robert Smoleński (PG: A)
CATEGORIES:S
LOCATION:109 A-2
END:VEVENT
BEGIN:VEVENT
UID:UZ_PLZ_20260530_1430_495766
DTSTAMP:20260530T143000
DTSTART:20260530T143000
DTEND:20260530T160000
SUMMARY:Auditing energetyczny (W): dr inż. Piotr Leżyński
CATEGORIES:W
LOCATION:109 A-2
ATTACH:https://classroom.google.com/c/ODUwNDA0NzE1Njc5
END:VEVENT
BEGIN:VEVENT
UID:UZ_PLZ_20260530_1615_495791
DTSTAMP:20260530T161500
DTSTART:20260530T161500
DTEND:20260530T174500
SUMMARY:Instalacje i urządzenia przemysłowe (W): dr hab. inż. Jacek Kaniewski\, prof. UZ
CATEGORIES:W
LOCATION:109 A-2
ATTACH:https://classroom.google.com/c/ODQ3MTExNjcyOTYy
END:VEVENT
BEGIN:VEVENT
UID:UZ_PLZ_20260530_1800_506787
DTSTAMP:20260530T180000
DTSTART:20260530T180000
DTEND:20260530T193000
SUMMARY:Seminarium dyplomowe III (S): prof. dr hab. inż. Robert Smoleński (PG: C)
CATEGORIES:S
LOCATION:109 A-2
END:VEVENT
BEGIN:VEVENT
UID:UZ_PLZ_20260530_1800_495780
DTSTAMP:20260530T180000
DTSTART:20260530T180000
DTEND:20260530T193000
SUMMARY:Systemy sterowania przesyłem i rozdziałem energii elektrycznej (L): dr hab. inż. Marcin Jarnut\, prof. UZ (PG: A)
CATEGORIES:L
LOCATION:110 A-37
ATTACH:https://classroom.google.com/c/ODUwMjYzMDI5MTg0
END:VEVENT
BEGIN:VEVENT
UID:UZ_PLZ_20260530_1935_495743
DTSTAMP:20260530T193500
DTSTART:20260530T193500
DTEND:20260530T210500
SUMMARY:Systemy sterowania przesyłem i rozdziałem energii elektrycznej (L): dr hab. inż. Marcin Jarnut\, prof. UZ (PG: B)
CATEGORIES:L
LOCATION:110 A-37
ATTACH:https://classroom.google.com/c/Nzk2NDQyMTM2NjIz
END:VEVENT
BEGIN:VEVENT
UID:UZ_PLZ_20260531_0910_495770
DTSTAMP:20260531T091000
DTSTART:20260531T091000
DTEND:20260531T105000
SUMMARY:Instalacje i urządzenia przemysłowe (P): dr hab. inż. Jacek Kaniewski\, prof. UZ (PG: B)
CATEGORIES:P
LOCATION:119 A-37
ATTACH:https://classroom.google.com/c/ODQ3MDg5NTk0MjEw
END:VEVENT
BEGIN:VEVENT
UID:UZ_PLZ_20260531_1100_495820
DTSTAMP:20260531T110000
DTSTART:20260531T110000
DTEND:20260531T123000
SUMMARY:Przemiany energetyczne i alternatywne źródła zasilania (W): dr hab. inż. Adam Kempski\, prof. UZ
CATEGORIES:W
LOCATION:108 A-2
ATTACH:https://classroom.google.com/c/Nzk2OTM0Nzg5NDE1
END:VEVENT
BEGIN:VEVENT
UID:UZ_PLZ_20260531_1245_495804
DTSTAMP:20260531T124500
DTSTART:20260531T124500
DTEND:20260531T141500
SUMMARY:Auditing energetyczny (P): dr inż. Piotr Leżyński (PG: A)
CATEGORIES:P
LOCATION:102 A-37
ATTACH:https://classroom.google.com/c/ODUwNDA0NzE1Njc5
END:VEVENT
BEGIN:VEVENT
UID:UZ_PLZ_20260531_1430_495767
DTSTAMP:20260531T143000
DTSTART:20260531T143000
DTEND:20260531T160000
SUMMARY:Auditing energetyczny (P): dr inż. Piotr Leżyński (PG: B)
CATEGORIES:P
LOCATION:102 A-37
ATTACH:https://classroom.google.com/c/ODUwNDA0NzE1Njc5
END:VEVENT
BEGIN:VEVENT
UID:UZ_PLZ_20260613_0915_495742
DTSTAMP:20260613T091500
DTSTART:20260613T091500
DTEND:20260613T104500
SUMMARY:Systemy sterowania przesyłem i rozdziałem energii elektrycznej (W): prof. dr hab. inż. Robert Smoleński
CATEGORIES:W
LOCATION:109 A-2
END:VEVENT
BEGIN:VEVENT
UID:UZ_PLZ_20260613_1100_495724
DTSTAMP:20260613T110000
DTSTART:20260613T110000
DTEND:20260613T123000
SUMMARY:Przemiany energetyczne i alternatywne źródła zasilania (L): dr inż. Sylwia Hajdasz (PG: A)
CATEGORIES:L
LOCATION:103 A-37
ATTACH:https://classroom.google.com/c/ODQ2NTY3NTQ3NzMx
END:VEVENT
BEGIN:VEVENT
UID:UZ_PLZ_20260613_1100_495798
DTSTAMP:20260613T110000
DTSTART:20260613T110000
DTEND:20260613T123000
SUMMARY:Seminarium dyplomowe III (S): prof. dr hab. inż. Robert Smoleński (PG: B)
CATEGORIES:S
LOCATION:109 A-2
END:VEVENT
BEGIN:VEVENT
UID:UZ_PLZ_20260613_1245_495751
DTSTAMP:20260613T124500
DTSTART:20260613T124500
DTEND:20260613T141500
SUMMARY:Przemiany energetyczne i alternatywne źródła zasilania (L): dr inż. Sylwia Hajdasz (PG: B)
CATEGORIES:L
LOCATION:103 A-37
ATTACH:https://classroom.google.com/c/ODQ2NTY4MDkwMjcy
END:VEVENT
BEGIN:VEVENT
UID:UZ_PLZ_20260613_1245_495822
DTSTAMP:20260613T124500
DTSTART:20260613T124500
DTEND:20260613T141500
SUMMARY:Seminarium dyplomowe III (S): prof. dr hab. inż. Robert Smoleński (PG: A)
CATEGORIES:S
LOCATION:109 A-2
END:VEVENT
BEGIN:VEVENT
UID:UZ_PLZ_20260613_1430_495766
DTSTAMP:20260613T143000
DTSTART:20260613T143000
DTEND:20260613T160000
SUMMARY:Auditing energetyczny (W): dr inż. Piotr Leżyński
CATEGORIES:W
LOCATION:109 A-2
ATTACH:https://classroom.google.com/c/ODUwNDA0NzE1Njc5
END:VEVENT
BEGIN:VEVENT
UID:UZ_PLZ_20260613_1615_495791
DTSTAMP:20260613T161500
DTSTART:20260613T161500
DTEND:20260613T174500
SUMMARY:Instalacje i urządzenia przemysłowe (W): dr hab. inż. Jacek Kaniewski\, prof. UZ
CATEGORIES:W
LOCATION:109 A-2
ATTACH:https://classroom.google.com/c/ODQ3MTExNjcyOTYy
END:VEVENT
BEGIN:VEVENT
UID:UZ_PLZ_20260613_1800_506787
DTSTAMP:20260613T180000
DTSTART:20260613T180000
DTEND:20260613T193000
SUMMARY:Seminarium dyplomowe III (S): prof. dr hab. inż. Robert Smoleński (PG: C)
CATEGORIES:S
LOCATION:109 A-2
END:VEVENT
BEGIN:VEVENT
UID:UZ_PLZ_20260613_1800_495780
DTSTAMP:20260613T180000
DTSTART:20260613T180000
DTEND:20260613T193000
SUMMARY:Systemy sterowania przesyłem i rozdziałem energii elektrycznej (L): dr hab. inż. Marcin Jarnut\, prof. UZ (PG: A)
CATEGORIES:L
LOCATION:110 A-37
ATTACH:https://classroom.google.com/c/ODUwMjYzMDI5MTg0
END:VEVENT
BEGIN:VEVENT
UID:UZ_PLZ_20260613_1935_495743
DTSTAMP:20260613T193500
DTSTART:20260613T193500
DTEND:20260613T210500
SUMMARY:Systemy sterowania przesyłem i rozdziałem energii elektrycznej (L): dr hab. inż. Marcin Jarnut\, prof. UZ (PG: B)
CATEGORIES:L
LOCATION:110 A-37
ATTACH:https://classroom.google.com/c/Nzk2NDQyMTM2NjIz
END:VEVENT
BEGIN:VEVENT
UID:UZ_PLZ_20260614_0740_495805
DTSTAMP:20260614T074000
DTSTART:20260614T074000
DTEND:20260614T090000
SUMMARY:Instalacje i urządzenia przemysłowe (L): dr inż. Piotr Leżyński (PG: A)
CATEGORIES:L
LOCATION:102 A-37\; 120 A-37
ATTACH:https://classroom.google.com/c/Nzk2NDY0MTU4Njg3
END:VEVENT
BEGIN:VEVENT
UID:UZ_PLZ_20260614_0915_495814
DTSTAMP:20260614T091500
DTSTART:20260614T091500
DTEND:20260614T103500
SUMMARY:Instalacje i urządzenia przemysłowe (L): dr inż. Piotr Leżyński (PG: B)
CATEGORIES:L
LOCATION:102 A-37\; 120 A-37
ATTACH:https://classroom.google.com/c/Nzk2NDY0MTU4Njg3
END:VEVENT
BEGIN:VEVENT
UID:UZ_PLZ_20260614_0915_495769
DTSTAMP:20260614T091500
DTSTART:20260614T091500
DTEND:20260614T103500
SUMMARY:Instalacje i urządzenia przemysłowe (P): dr hab. inż. Jacek Kaniewski\, prof. UZ (PG: A)
CATEGORIES:P
LOCATION:119 A-37
ATTACH:https://classroom.google.com/c/ODQ3MTEyODAxMTM4
END:VEVENT
BEGIN:VEVENT
UID:UZ_PLZ_20260614_1100_495820
DTSTAMP:20260614T110000
DTSTART:20260614T110000
DTEND:20260614T123000
SUMMARY:Przemiany energetyczne i alternatywne źródła zasilania (W): dr hab. inż. Adam Kempski\, prof. UZ
CATEGORIES:W
LOCATION:108 A-2
ATTACH:https://classroom.google.com/c/Nzk2OTM0Nzg5NDE1
END:VEVENT
BEGIN:VEVENT
UID:UZ_PLZ_20260614_1245_495712
DTSTAMP:20260614T124500
DTSTART:20260614T124500
DTEND:20260614T141500
SUMMARY:Auditing energetyczny (L): dr inż. Piotr Leżyński (PG: A)
CATEGORIES:L
LOCATION:102 A-37
ATTACH:https://classroom.google.com/c/ODUwNDA0NzE1Njc5
END:VEVENT
BEGIN:VEVENT
UID:UZ_PLZ_20260614_1430_495785
DTSTAMP:20260614T143000
DTSTART:20260614T143000
DTEND:20260614T160000
SUMMARY:Auditing energetyczny (L): dr inż. Piotr Leżyński (PG: B)
CATEGORIES:L
LOCATION:102 A-37
ATTACH:https://classroom.google.com/c/ODUwNDA0NzE1Njc5
END:VEVENT
END:VCALENDAR
